BEGIN:VCALENDAR
VERSION:2.0
PRODID:-//Centers for Multiple Sclerosis - ECPv6.15.20//NONSGML v1.0//EN
CALSCALE:GREGORIAN
METHOD:PUBLISH
X-ORIGINAL-URL:https://centers4ms.org
X-WR-CALDESC:Events for Centers for Multiple Sclerosis
REFRESH-INTERVAL;VALUE=DURATION:PT1H
X-Robots-Tag:noindex
X-PUBLISHED-TTL:PT1H
BEGIN:VTIMEZONE
TZID:America/New_York
BEGIN:DAYLIGHT
TZOFFSETFROM:-0500
TZOFFSETTO:-0400
TZNAME:EDT
DTSTART:20270314T070000
END:DAYLIGHT
BEGIN:STANDARD
TZOFFSETFROM:-0400
TZOFFSETTO:-0500
TZNAME:EST
DTSTART:20271107T060000
END:STANDARD
BEGIN:DAYLIGHT
TZOFFSETFROM:-0500
TZOFFSETTO:-0400
TZNAME:EDT
DTSTART:20280312T070000
END:DAYLIGHT
BEGIN:STANDARD
TZOFFSETFROM:-0400
TZOFFSETTO:-0500
TZNAME:EST
DTSTART:20281105T060000
END:STANDARD
BEGIN:DAYLIGHT
TZOFFSETFROM:-0500
TZOFFSETTO:-0400
TZNAME:EDT
DTSTART:20290311T070000
END:DAYLIGHT
BEGIN:STANDARD
TZOFFSETFROM:-0400
TZOFFSETTO:-0500
TZNAME:EST
DTSTART:20291104T060000
END:STANDARD
END:VTIMEZONE
BEGIN:VEVENT
DTSTART;TZID=America/New_York:20280302T170000
DTEND;TZID=America/New_York:20280302T170000
DTSTAMP:20260423T161652
CREATED:20250206T061837Z
LAST-MODIFIED:20250730T155132Z
UID:10005605-1835629200-1835629200@centers4ms.org
SUMMARY:Watercolor Painting with Monique
DESCRIPTION:Zoom Class
URL:https://centers4ms.org/event/watercolor-painting-with-monique-38/2028-03-02/
LOCATION:Zoom
CATEGORIES:Art Class,Zoom Only
ATTACH;FMTTYPE=image/jpeg:https://centers4ms.org/wp-content/uploads/2019/09/paint-square.jpg
ORGANIZER;CN="Centers for Multiple Sclerosis":MAILTO:Tim@centers4ms.org
END:VEVENT
BEGIN:VEVENT
DTSTART;TZID=America/New_York:20280309T170000
DTEND;TZID=America/New_York:20280309T170000
DTSTAMP:20260423T161652
CREATED:20250206T061837Z
LAST-MODIFIED:20250730T155132Z
UID:10005606-1836234000-1836234000@centers4ms.org
SUMMARY:Watercolor Painting with Monique
DESCRIPTION:Zoom Class
URL:https://centers4ms.org/event/watercolor-painting-with-monique-38/2028-03-09/
LOCATION:Zoom
CATEGORIES:Art Class,Zoom Only
ATTACH;FMTTYPE=image/jpeg:https://centers4ms.org/wp-content/uploads/2019/09/paint-square.jpg
ORGANIZER;CN="Centers for Multiple Sclerosis":MAILTO:Tim@centers4ms.org
END:VEVENT
BEGIN:VEVENT
DTSTART;TZID=America/New_York:20280316T170000
DTEND;TZID=America/New_York:20280316T170000
DTSTAMP:20260423T161652
CREATED:20250206T061837Z
LAST-MODIFIED:20250730T155132Z
UID:10005607-1836838800-1836838800@centers4ms.org
SUMMARY:Watercolor Painting with Monique
DESCRIPTION:Zoom Class
URL:https://centers4ms.org/event/watercolor-painting-with-monique-38/2028-03-16/
LOCATION:Zoom
CATEGORIES:Art Class,Zoom Only
ATTACH;FMTTYPE=image/jpeg:https://centers4ms.org/wp-content/uploads/2019/09/paint-square.jpg
ORGANIZER;CN="Centers for Multiple Sclerosis":MAILTO:Tim@centers4ms.org
END:VEVENT
BEGIN:VEVENT
DTSTART;TZID=America/New_York:20280323T170000
DTEND;TZID=America/New_York:20280323T170000
DTSTAMP:20260423T161652
CREATED:20250206T061837Z
LAST-MODIFIED:20250730T155132Z
UID:10005608-1837443600-1837443600@centers4ms.org
SUMMARY:Watercolor Painting with Monique
DESCRIPTION:Zoom Class
URL:https://centers4ms.org/event/watercolor-painting-with-monique-38/2028-03-23/
LOCATION:Zoom
CATEGORIES:Art Class,Zoom Only
ATTACH;FMTTYPE=image/jpeg:https://centers4ms.org/wp-content/uploads/2019/09/paint-square.jpg
ORGANIZER;CN="Centers for Multiple Sclerosis":MAILTO:Tim@centers4ms.org
END:VEVENT
BEGIN:VEVENT
DTSTART;TZID=America/New_York:20280330T170000
DTEND;TZID=America/New_York:20280330T170000
DTSTAMP:20260423T161652
CREATED:20250206T061837Z
LAST-MODIFIED:20250730T155132Z
UID:10005609-1838048400-1838048400@centers4ms.org
SUMMARY:Watercolor Painting with Monique
DESCRIPTION:Zoom Class
URL:https://centers4ms.org/event/watercolor-painting-with-monique-38/2028-03-30/
LOCATION:Zoom
CATEGORIES:Art Class,Zoom Only
ATTACH;FMTTYPE=image/jpeg:https://centers4ms.org/wp-content/uploads/2019/09/paint-square.jpg
ORGANIZER;CN="Centers for Multiple Sclerosis":MAILTO:Tim@centers4ms.org
END:VEVENT
END:VCALENDAR