BEGIN:VCALENDAR
VERSION:2.0
PRODID:-//Centers for Multiple Sclerosis - ECPv6.15.20//NONSGML v1.0//EN
CALSCALE:GREGORIAN
METHOD:PUBLISH
X-ORIGINAL-URL:https://centers4ms.org
X-WR-CALDESC:Events for Centers for Multiple Sclerosis
REFRESH-INTERVAL;VALUE=DURATION:PT1H
X-Robots-Tag:noindex
X-PUBLISHED-TTL:PT1H
BEGIN:VTIMEZONE
TZID:America/New_York
BEGIN:DAYLIGHT
TZOFFSETFROM:-0500
TZOFFSETTO:-0400
TZNAME:EDT
DTSTART:20250309T070000
END:DAYLIGHT
BEGIN:STANDARD
TZOFFSETFROM:-0400
TZOFFSETTO:-0500
TZNAME:EST
DTSTART:20251102T060000
END:STANDARD
BEGIN:DAYLIGHT
TZOFFSETFROM:-0500
TZOFFSETTO:-0400
TZNAME:EDT
DTSTART:20260308T070000
END:DAYLIGHT
BEGIN:STANDARD
TZOFFSETFROM:-0400
TZOFFSETTO:-0500
TZNAME:EST
DTSTART:20261101T060000
END:STANDARD
BEGIN:DAYLIGHT
TZOFFSETFROM:-0500
TZOFFSETTO:-0400
TZNAME:EDT
DTSTART:20270314T070000
END:DAYLIGHT
BEGIN:STANDARD
TZOFFSETFROM:-0400
TZOFFSETTO:-0500
TZNAME:EST
DTSTART:20271107T060000
END:STANDARD
END:VTIMEZONE
BEGIN:VEVENT
DTSTART;TZID=America/New_York:20260601T100000
DTEND;TZID=America/New_York:20260601T143000
DTSTAMP:20260420T182635
CREATED:20250918T125947Z
LAST-MODIFIED:20251017T155126Z
UID:10006394-1780308000-1780324200@centers4ms.org
SUMMARY:MSCC Estero
DESCRIPTION:10:00 Strength and Balance*\n11:00 Support Group\n12:00 Lunch\n12:45 Art Class \n*In Person or Via Zoom (hybrid class)
URL:https://centers4ms.org/event/mscc-estero-13-3/2026-06-01/
LOCATION:MSCC Estero\, 8200 Health Center Blvd Ste 104\, Bonita Springs\, FL\, 34135\, United States
CATEGORIES:MS Community Center
ATTACH;FMTTYPE=image/png:https://centers4ms.org/wp-content/uploads/2024/08/2.png
ORGANIZER;CN="Centers for Multiple Sclerosis":MAILTO:Tim@centers4ms.org
GEO:26.316614;-81.808101
X-APPLE-STRUCTURED-LOCATION;VALUE=URI;X-ADDRESS=MSCC Estero 8200 Health Center Blvd Ste 104 Bonita Springs FL 34135 United States;X-APPLE-RADIUS=500;X-TITLE=8200 Health Center Blvd Ste 104:geo:-81.808101,26.316614
END:VEVENT
BEGIN:VEVENT
DTSTART;TZID=America/New_York:20260602T100000
DTEND;TZID=America/New_York:20260602T143000
DTSTAMP:20260420T182635
CREATED:20251024T171634Z
LAST-MODIFIED:20251029T192758Z
UID:10006694-1780394400-1780410600@centers4ms.org
SUMMARY:MSCC Buckingham
DESCRIPTION:10:00 Yoga\n11:00 Support Group\n12:00 Lunch\n12:45 Art Class
URL:https://centers4ms.org/event/mscc-buckingham-11-2/2026-06-02/
LOCATION:FL
CATEGORIES:MS Community Center
END:VEVENT
BEGIN:VEVENT
DTSTART;TZID=America/New_York:20260603T110000
DTEND;TZID=America/New_York:20260603T143000
DTSTAMP:20260420T182635
CREATED:20251024T172646Z
LAST-MODIFIED:20251024T172647Z
UID:10006952-1780484400-1780497000@centers4ms.org
SUMMARY:MSCC South Naples
DESCRIPTION:No Yoga\n11:00 Support Group\n12:00 Lunch\n12:45 Art Class
URL:https://centers4ms.org/event/mscc-south-naples-17-3/2026-06-03/
LOCATION:FL
CATEGORIES:MS Community Center
END:VEVENT
BEGIN:VEVENT
DTSTART;TZID=America/New_York:20260604T100000
DTEND;TZID=America/New_York:20260604T143000
DTSTAMP:20260420T182635
CREATED:20250612T153605Z
LAST-MODIFIED:20250612T153658Z
UID:10003673-1780567200-1780583400@centers4ms.org
SUMMARY:MSCC Cape Coral
DESCRIPTION:10:00 Yoga\n11:00 Support Group\n12:00 Lunch\n12:45 Art Class
URL:https://centers4ms.org/event/mscc-cape-coral-new-exercise-instructor-4-2/2026-06-04/
LOCATION:FL
CATEGORIES:MS Community Center
END:VEVENT
BEGIN:VEVENT
DTSTART;TZID=America/New_York:20260608T100000
DTEND;TZID=America/New_York:20260608T143000
DTSTAMP:20260420T182635
CREATED:20250918T125947Z
LAST-MODIFIED:20251017T155126Z
UID:10006395-1780912800-1780929000@centers4ms.org
SUMMARY:MSCC Estero
DESCRIPTION:10:00 Strength and Balance*\n11:00 Support Group\n12:00 Lunch\n12:45 Art Class \n*In Person or Via Zoom (hybrid class)
URL:https://centers4ms.org/event/mscc-estero-13-3/2026-06-08/
LOCATION:MSCC Estero\, 8200 Health Center Blvd Ste 104\, Bonita Springs\, FL\, 34135\, United States
CATEGORIES:MS Community Center
ATTACH;FMTTYPE=image/png:https://centers4ms.org/wp-content/uploads/2024/08/2.png
ORGANIZER;CN="Centers for Multiple Sclerosis":MAILTO:Tim@centers4ms.org
GEO:26.316614;-81.808101
X-APPLE-STRUCTURED-LOCATION;VALUE=URI;X-ADDRESS=MSCC Estero 8200 Health Center Blvd Ste 104 Bonita Springs FL 34135 United States;X-APPLE-RADIUS=500;X-TITLE=8200 Health Center Blvd Ste 104:geo:-81.808101,26.316614
END:VEVENT
BEGIN:VEVENT
DTSTART;TZID=America/New_York:20260609T100000
DTEND;TZID=America/New_York:20260609T143000
DTSTAMP:20260420T182635
CREATED:20251024T171634Z
LAST-MODIFIED:20251029T192758Z
UID:10006695-1780999200-1781015400@centers4ms.org
SUMMARY:MSCC Buckingham
DESCRIPTION:10:00 Yoga\n11:00 Support Group\n12:00 Lunch\n12:45 Art Class
URL:https://centers4ms.org/event/mscc-buckingham-11-2/2026-06-09/
LOCATION:FL
CATEGORIES:MS Community Center
END:VEVENT
BEGIN:VEVENT
DTSTART;TZID=America/New_York:20260610T110000
DTEND;TZID=America/New_York:20260610T143000
DTSTAMP:20260420T182635
CREATED:20251024T172646Z
LAST-MODIFIED:20251024T172647Z
UID:10006953-1781089200-1781101800@centers4ms.org
SUMMARY:MSCC South Naples
DESCRIPTION:No Yoga\n11:00 Support Group\n12:00 Lunch\n12:45 Art Class
URL:https://centers4ms.org/event/mscc-south-naples-17-3/2026-06-10/
LOCATION:FL
CATEGORIES:MS Community Center
END:VEVENT
BEGIN:VEVENT
DTSTART;TZID=America/New_York:20260611T100000
DTEND;TZID=America/New_York:20260611T143000
DTSTAMP:20260420T182635
CREATED:20250612T153605Z
LAST-MODIFIED:20250612T153658Z
UID:10003674-1781172000-1781188200@centers4ms.org
SUMMARY:MSCC Cape Coral
DESCRIPTION:10:00 Yoga\n11:00 Support Group\n12:00 Lunch\n12:45 Art Class
URL:https://centers4ms.org/event/mscc-cape-coral-new-exercise-instructor-4-2/2026-06-11/
LOCATION:FL
CATEGORIES:MS Community Center
END:VEVENT
BEGIN:VEVENT
DTSTART;TZID=America/New_York:20260615T100000
DTEND;TZID=America/New_York:20260615T143000
DTSTAMP:20260420T182635
CREATED:20250918T125947Z
LAST-MODIFIED:20251017T155126Z
UID:10006396-1781517600-1781533800@centers4ms.org
SUMMARY:MSCC Estero
DESCRIPTION:10:00 Strength and Balance*\n11:00 Support Group\n12:00 Lunch\n12:45 Art Class \n*In Person or Via Zoom (hybrid class)
URL:https://centers4ms.org/event/mscc-estero-13-3/2026-06-15/
LOCATION:MSCC Estero\, 8200 Health Center Blvd Ste 104\, Bonita Springs\, FL\, 34135\, United States
CATEGORIES:MS Community Center
ATTACH;FMTTYPE=image/png:https://centers4ms.org/wp-content/uploads/2024/08/2.png
ORGANIZER;CN="Centers for Multiple Sclerosis":MAILTO:Tim@centers4ms.org
GEO:26.316614;-81.808101
X-APPLE-STRUCTURED-LOCATION;VALUE=URI;X-ADDRESS=MSCC Estero 8200 Health Center Blvd Ste 104 Bonita Springs FL 34135 United States;X-APPLE-RADIUS=500;X-TITLE=8200 Health Center Blvd Ste 104:geo:-81.808101,26.316614
END:VEVENT
BEGIN:VEVENT
DTSTART;TZID=America/New_York:20260616T100000
DTEND;TZID=America/New_York:20260616T143000
DTSTAMP:20260420T182635
CREATED:20251024T171634Z
LAST-MODIFIED:20251029T192758Z
UID:10006696-1781604000-1781620200@centers4ms.org
SUMMARY:MSCC Buckingham
DESCRIPTION:10:00 Yoga\n11:00 Support Group\n12:00 Lunch\n12:45 Art Class
URL:https://centers4ms.org/event/mscc-buckingham-11-2/2026-06-16/
LOCATION:FL
CATEGORIES:MS Community Center
END:VEVENT
BEGIN:VEVENT
DTSTART;TZID=America/New_York:20260617T110000
DTEND;TZID=America/New_York:20260617T143000
DTSTAMP:20260420T182635
CREATED:20251024T172646Z
LAST-MODIFIED:20251024T172647Z
UID:10006954-1781694000-1781706600@centers4ms.org
SUMMARY:MSCC South Naples
DESCRIPTION:No Yoga\n11:00 Support Group\n12:00 Lunch\n12:45 Art Class
URL:https://centers4ms.org/event/mscc-south-naples-17-3/2026-06-17/
LOCATION:FL
CATEGORIES:MS Community Center
END:VEVENT
BEGIN:VEVENT
DTSTART;TZID=America/New_York:20260618T100000
DTEND;TZID=America/New_York:20260618T143000
DTSTAMP:20260420T182635
CREATED:20250612T153605Z
LAST-MODIFIED:20250612T153658Z
UID:10003675-1781776800-1781793000@centers4ms.org
SUMMARY:MSCC Cape Coral
DESCRIPTION:10:00 Yoga\n11:00 Support Group\n12:00 Lunch\n12:45 Art Class
URL:https://centers4ms.org/event/mscc-cape-coral-new-exercise-instructor-4-2/2026-06-18/
LOCATION:FL
CATEGORIES:MS Community Center
END:VEVENT
BEGIN:VEVENT
DTSTART;TZID=America/New_York:20260622T100000
DTEND;TZID=America/New_York:20260622T143000
DTSTAMP:20260420T182635
CREATED:20250918T125947Z
LAST-MODIFIED:20251017T155126Z
UID:10006397-1782122400-1782138600@centers4ms.org
SUMMARY:MSCC Estero
DESCRIPTION:10:00 Strength and Balance*\n11:00 Support Group\n12:00 Lunch\n12:45 Art Class \n*In Person or Via Zoom (hybrid class)
URL:https://centers4ms.org/event/mscc-estero-13-3/2026-06-22/
LOCATION:MSCC Estero\, 8200 Health Center Blvd Ste 104\, Bonita Springs\, FL\, 34135\, United States
CATEGORIES:MS Community Center
ATTACH;FMTTYPE=image/png:https://centers4ms.org/wp-content/uploads/2024/08/2.png
ORGANIZER;CN="Centers for Multiple Sclerosis":MAILTO:Tim@centers4ms.org
GEO:26.316614;-81.808101
X-APPLE-STRUCTURED-LOCATION;VALUE=URI;X-ADDRESS=MSCC Estero 8200 Health Center Blvd Ste 104 Bonita Springs FL 34135 United States;X-APPLE-RADIUS=500;X-TITLE=8200 Health Center Blvd Ste 104:geo:-81.808101,26.316614
END:VEVENT
BEGIN:VEVENT
DTSTART;TZID=America/New_York:20260623T100000
DTEND;TZID=America/New_York:20260623T143000
DTSTAMP:20260420T182635
CREATED:20251024T171634Z
LAST-MODIFIED:20251029T192758Z
UID:10006697-1782208800-1782225000@centers4ms.org
SUMMARY:MSCC Buckingham
DESCRIPTION:10:00 Yoga\n11:00 Support Group\n12:00 Lunch\n12:45 Art Class
URL:https://centers4ms.org/event/mscc-buckingham-11-2/2026-06-23/
LOCATION:FL
CATEGORIES:MS Community Center
END:VEVENT
BEGIN:VEVENT
DTSTART;TZID=America/New_York:20260624T110000
DTEND;TZID=America/New_York:20260624T143000
DTSTAMP:20260420T182635
CREATED:20251024T172646Z
LAST-MODIFIED:20251024T172647Z
UID:10006955-1782298800-1782311400@centers4ms.org
SUMMARY:MSCC South Naples
DESCRIPTION:No Yoga\n11:00 Support Group\n12:00 Lunch\n12:45 Art Class
URL:https://centers4ms.org/event/mscc-south-naples-17-3/2026-06-24/
LOCATION:FL
CATEGORIES:MS Community Center
END:VEVENT
BEGIN:VEVENT
DTSTART;TZID=America/New_York:20260625T100000
DTEND;TZID=America/New_York:20260625T143000
DTSTAMP:20260420T182635
CREATED:20250612T153605Z
LAST-MODIFIED:20250612T153658Z
UID:10003676-1782381600-1782397800@centers4ms.org
SUMMARY:MSCC Cape Coral
DESCRIPTION:10:00 Yoga\n11:00 Support Group\n12:00 Lunch\n12:45 Art Class
URL:https://centers4ms.org/event/mscc-cape-coral-new-exercise-instructor-4-2/2026-06-25/
LOCATION:FL
CATEGORIES:MS Community Center
END:VEVENT
BEGIN:VEVENT
DTSTART;TZID=America/New_York:20260629T100000
DTEND;TZID=America/New_York:20260629T143000
DTSTAMP:20260420T182635
CREATED:20250918T125947Z
LAST-MODIFIED:20251017T155126Z
UID:10006398-1782727200-1782743400@centers4ms.org
SUMMARY:MSCC Estero
DESCRIPTION:10:00 Strength and Balance*\n11:00 Support Group\n12:00 Lunch\n12:45 Art Class \n*In Person or Via Zoom (hybrid class)
URL:https://centers4ms.org/event/mscc-estero-13-3/2026-06-29/
LOCATION:MSCC Estero\, 8200 Health Center Blvd Ste 104\, Bonita Springs\, FL\, 34135\, United States
CATEGORIES:MS Community Center
ATTACH;FMTTYPE=image/png:https://centers4ms.org/wp-content/uploads/2024/08/2.png
ORGANIZER;CN="Centers for Multiple Sclerosis":MAILTO:Tim@centers4ms.org
GEO:26.316614;-81.808101
X-APPLE-STRUCTURED-LOCATION;VALUE=URI;X-ADDRESS=MSCC Estero 8200 Health Center Blvd Ste 104 Bonita Springs FL 34135 United States;X-APPLE-RADIUS=500;X-TITLE=8200 Health Center Blvd Ste 104:geo:-81.808101,26.316614
END:VEVENT
BEGIN:VEVENT
DTSTART;TZID=America/New_York:20260630T100000
DTEND;TZID=America/New_York:20260630T143000
DTSTAMP:20260420T182635
CREATED:20251024T171634Z
LAST-MODIFIED:20251029T192758Z
UID:10006698-1782813600-1782829800@centers4ms.org
SUMMARY:MSCC Buckingham
DESCRIPTION:10:00 Yoga\n11:00 Support Group\n12:00 Lunch\n12:45 Art Class
URL:https://centers4ms.org/event/mscc-buckingham-11-2/2026-06-30/
LOCATION:FL
CATEGORIES:MS Community Center
END:VEVENT
END:VCALENDAR