BEGIN:VCALENDAR
VERSION:2.0
PRODID:-//Centers for Multiple Sclerosis - ECPv6.15.20//NONSGML v1.0//EN
CALSCALE:GREGORIAN
METHOD:PUBLISH
X-ORIGINAL-URL:https://centers4ms.org
X-WR-CALDESC:Events for Centers for Multiple Sclerosis
REFRESH-INTERVAL;VALUE=DURATION:PT1H
X-Robots-Tag:noindex
X-PUBLISHED-TTL:PT1H
BEGIN:VTIMEZONE
TZID:America/New_York
BEGIN:DAYLIGHT
TZOFFSETFROM:-0500
TZOFFSETTO:-0400
TZNAME:EDT
DTSTART:20260308T070000
END:DAYLIGHT
BEGIN:STANDARD
TZOFFSETFROM:-0400
TZOFFSETTO:-0500
TZNAME:EST
DTSTART:20261101T060000
END:STANDARD
BEGIN:DAYLIGHT
TZOFFSETFROM:-0500
TZOFFSETTO:-0400
TZNAME:EDT
DTSTART:20270314T070000
END:DAYLIGHT
BEGIN:STANDARD
TZOFFSETFROM:-0400
TZOFFSETTO:-0500
TZNAME:EST
DTSTART:20271107T060000
END:STANDARD
BEGIN:DAYLIGHT
TZOFFSETFROM:-0500
TZOFFSETTO:-0400
TZNAME:EDT
DTSTART:20280312T070000
END:DAYLIGHT
BEGIN:STANDARD
TZOFFSETFROM:-0400
TZOFFSETTO:-0500
TZNAME:EST
DTSTART:20281105T060000
END:STANDARD
END:VTIMEZONE
BEGIN:VEVENT
DTSTART;TZID=America/New_York:20270104T100000
DTEND;TZID=America/New_York:20270104T143000
DTSTAMP:20260421T021904
CREATED:20250918T125947Z
LAST-MODIFIED:20251017T155126Z
UID:10006425-1799056800-1799073000@centers4ms.org
SUMMARY:MSCC Estero
DESCRIPTION:10:00 Strength and Balance*\n11:00 Support Group\n12:00 Lunch\n12:45 Art Class \n*In Person or Via Zoom (hybrid class)
URL:https://centers4ms.org/event/mscc-estero-13-3/2027-01-04/
LOCATION:MSCC Estero\, 8200 Health Center Blvd Ste 104\, Bonita Springs\, FL\, 34135\, United States
CATEGORIES:MS Community Center
ATTACH;FMTTYPE=image/png:https://centers4ms.org/wp-content/uploads/2024/08/2.png
ORGANIZER;CN="Centers for Multiple Sclerosis":MAILTO:Tim@centers4ms.org
GEO:26.316614;-81.808101
X-APPLE-STRUCTURED-LOCATION;VALUE=URI;X-ADDRESS=MSCC Estero 8200 Health Center Blvd Ste 104 Bonita Springs FL 34135 United States;X-APPLE-RADIUS=500;X-TITLE=8200 Health Center Blvd Ste 104:geo:-81.808101,26.316614
END:VEVENT
BEGIN:VEVENT
DTSTART;TZID=America/New_York:20270105T100000
DTEND;TZID=America/New_York:20270105T143000
DTSTAMP:20260421T021904
CREATED:20251024T171634Z
LAST-MODIFIED:20251029T192758Z
UID:10006725-1799143200-1799159400@centers4ms.org
SUMMARY:MSCC Buckingham
DESCRIPTION:10:00 Yoga\n11:00 Support Group\n12:00 Lunch\n12:45 Art Class
URL:https://centers4ms.org/event/mscc-buckingham-11-2/2027-01-05/
LOCATION:FL
CATEGORIES:MS Community Center
END:VEVENT
BEGIN:VEVENT
DTSTART;TZID=America/New_York:20270106T110000
DTEND;TZID=America/New_York:20270106T143000
DTSTAMP:20260421T021904
CREATED:20251024T172646Z
LAST-MODIFIED:20251024T172647Z
UID:10006983-1799233200-1799245800@centers4ms.org
SUMMARY:MSCC South Naples
DESCRIPTION:No Yoga\n11:00 Support Group\n12:00 Lunch\n12:45 Art Class
URL:https://centers4ms.org/event/mscc-south-naples-17-3/2027-01-06/
LOCATION:FL
CATEGORIES:MS Community Center
END:VEVENT
BEGIN:VEVENT
DTSTART;TZID=America/New_York:20270107T100000
DTEND;TZID=America/New_York:20270107T143000
DTSTAMP:20260421T021904
CREATED:20250612T153605Z
LAST-MODIFIED:20250612T153658Z
UID:10003704-1799316000-1799332200@centers4ms.org
SUMMARY:MSCC Cape Coral
DESCRIPTION:10:00 Yoga\n11:00 Support Group\n12:00 Lunch\n12:45 Art Class
URL:https://centers4ms.org/event/mscc-cape-coral-new-exercise-instructor-4-2/2027-01-07/
LOCATION:FL
CATEGORIES:MS Community Center
END:VEVENT
BEGIN:VEVENT
DTSTART;TZID=America/New_York:20270111T100000
DTEND;TZID=America/New_York:20270111T143000
DTSTAMP:20260421T021904
CREATED:20250918T125947Z
LAST-MODIFIED:20251017T155126Z
UID:10006426-1799661600-1799677800@centers4ms.org
SUMMARY:MSCC Estero
DESCRIPTION:10:00 Strength and Balance*\n11:00 Support Group\n12:00 Lunch\n12:45 Art Class \n*In Person or Via Zoom (hybrid class)
URL:https://centers4ms.org/event/mscc-estero-13-3/2027-01-11/
LOCATION:MSCC Estero\, 8200 Health Center Blvd Ste 104\, Bonita Springs\, FL\, 34135\, United States
CATEGORIES:MS Community Center
ATTACH;FMTTYPE=image/png:https://centers4ms.org/wp-content/uploads/2024/08/2.png
ORGANIZER;CN="Centers for Multiple Sclerosis":MAILTO:Tim@centers4ms.org
GEO:26.316614;-81.808101
X-APPLE-STRUCTURED-LOCATION;VALUE=URI;X-ADDRESS=MSCC Estero 8200 Health Center Blvd Ste 104 Bonita Springs FL 34135 United States;X-APPLE-RADIUS=500;X-TITLE=8200 Health Center Blvd Ste 104:geo:-81.808101,26.316614
END:VEVENT
BEGIN:VEVENT
DTSTART;TZID=America/New_York:20270112T100000
DTEND;TZID=America/New_York:20270112T143000
DTSTAMP:20260421T021904
CREATED:20251024T171634Z
LAST-MODIFIED:20251029T192758Z
UID:10006726-1799748000-1799764200@centers4ms.org
SUMMARY:MSCC Buckingham
DESCRIPTION:10:00 Yoga\n11:00 Support Group\n12:00 Lunch\n12:45 Art Class
URL:https://centers4ms.org/event/mscc-buckingham-11-2/2027-01-12/
LOCATION:FL
CATEGORIES:MS Community Center
END:VEVENT
BEGIN:VEVENT
DTSTART;TZID=America/New_York:20270113T110000
DTEND;TZID=America/New_York:20270113T143000
DTSTAMP:20260421T021904
CREATED:20251024T172646Z
LAST-MODIFIED:20251024T172647Z
UID:10006984-1799838000-1799850600@centers4ms.org
SUMMARY:MSCC South Naples
DESCRIPTION:No Yoga\n11:00 Support Group\n12:00 Lunch\n12:45 Art Class
URL:https://centers4ms.org/event/mscc-south-naples-17-3/2027-01-13/
LOCATION:FL
CATEGORIES:MS Community Center
END:VEVENT
BEGIN:VEVENT
DTSTART;TZID=America/New_York:20270114T100000
DTEND;TZID=America/New_York:20270114T143000
DTSTAMP:20260421T021904
CREATED:20250612T153605Z
LAST-MODIFIED:20250612T153658Z
UID:10003705-1799920800-1799937000@centers4ms.org
SUMMARY:MSCC Cape Coral
DESCRIPTION:10:00 Yoga\n11:00 Support Group\n12:00 Lunch\n12:45 Art Class
URL:https://centers4ms.org/event/mscc-cape-coral-new-exercise-instructor-4-2/2027-01-14/
LOCATION:FL
CATEGORIES:MS Community Center
END:VEVENT
BEGIN:VEVENT
DTSTART;TZID=America/New_York:20270118T100000
DTEND;TZID=America/New_York:20270118T143000
DTSTAMP:20260421T021904
CREATED:20250918T125947Z
LAST-MODIFIED:20251017T155126Z
UID:10006427-1800266400-1800282600@centers4ms.org
SUMMARY:MSCC Estero
DESCRIPTION:10:00 Strength and Balance*\n11:00 Support Group\n12:00 Lunch\n12:45 Art Class \n*In Person or Via Zoom (hybrid class)
URL:https://centers4ms.org/event/mscc-estero-13-3/2027-01-18/
LOCATION:MSCC Estero\, 8200 Health Center Blvd Ste 104\, Bonita Springs\, FL\, 34135\, United States
CATEGORIES:MS Community Center
ATTACH;FMTTYPE=image/png:https://centers4ms.org/wp-content/uploads/2024/08/2.png
ORGANIZER;CN="Centers for Multiple Sclerosis":MAILTO:Tim@centers4ms.org
GEO:26.316614;-81.808101
X-APPLE-STRUCTURED-LOCATION;VALUE=URI;X-ADDRESS=MSCC Estero 8200 Health Center Blvd Ste 104 Bonita Springs FL 34135 United States;X-APPLE-RADIUS=500;X-TITLE=8200 Health Center Blvd Ste 104:geo:-81.808101,26.316614
END:VEVENT
BEGIN:VEVENT
DTSTART;TZID=America/New_York:20270119T100000
DTEND;TZID=America/New_York:20270119T143000
DTSTAMP:20260421T021904
CREATED:20251024T171634Z
LAST-MODIFIED:20251029T192758Z
UID:10006727-1800352800-1800369000@centers4ms.org
SUMMARY:MSCC Buckingham
DESCRIPTION:10:00 Yoga\n11:00 Support Group\n12:00 Lunch\n12:45 Art Class
URL:https://centers4ms.org/event/mscc-buckingham-11-2/2027-01-19/
LOCATION:FL
CATEGORIES:MS Community Center
END:VEVENT
BEGIN:VEVENT
DTSTART;TZID=America/New_York:20270120T110000
DTEND;TZID=America/New_York:20270120T143000
DTSTAMP:20260421T021904
CREATED:20251024T172646Z
LAST-MODIFIED:20251024T172647Z
UID:10006985-1800442800-1800455400@centers4ms.org
SUMMARY:MSCC South Naples
DESCRIPTION:No Yoga\n11:00 Support Group\n12:00 Lunch\n12:45 Art Class
URL:https://centers4ms.org/event/mscc-south-naples-17-3/2027-01-20/
LOCATION:FL
CATEGORIES:MS Community Center
END:VEVENT
BEGIN:VEVENT
DTSTART;TZID=America/New_York:20270121T100000
DTEND;TZID=America/New_York:20270121T143000
DTSTAMP:20260421T021904
CREATED:20250612T153605Z
LAST-MODIFIED:20250612T153658Z
UID:10003706-1800525600-1800541800@centers4ms.org
SUMMARY:MSCC Cape Coral
DESCRIPTION:10:00 Yoga\n11:00 Support Group\n12:00 Lunch\n12:45 Art Class
URL:https://centers4ms.org/event/mscc-cape-coral-new-exercise-instructor-4-2/2027-01-21/
LOCATION:FL
CATEGORIES:MS Community Center
END:VEVENT
BEGIN:VEVENT
DTSTART;TZID=America/New_York:20270125T100000
DTEND;TZID=America/New_York:20270125T143000
DTSTAMP:20260421T021904
CREATED:20250918T125947Z
LAST-MODIFIED:20251017T155126Z
UID:10006428-1800871200-1800887400@centers4ms.org
SUMMARY:MSCC Estero
DESCRIPTION:10:00 Strength and Balance*\n11:00 Support Group\n12:00 Lunch\n12:45 Art Class \n*In Person or Via Zoom (hybrid class)
URL:https://centers4ms.org/event/mscc-estero-13-3/2027-01-25/
LOCATION:MSCC Estero\, 8200 Health Center Blvd Ste 104\, Bonita Springs\, FL\, 34135\, United States
CATEGORIES:MS Community Center
ATTACH;FMTTYPE=image/png:https://centers4ms.org/wp-content/uploads/2024/08/2.png
ORGANIZER;CN="Centers for Multiple Sclerosis":MAILTO:Tim@centers4ms.org
GEO:26.316614;-81.808101
X-APPLE-STRUCTURED-LOCATION;VALUE=URI;X-ADDRESS=MSCC Estero 8200 Health Center Blvd Ste 104 Bonita Springs FL 34135 United States;X-APPLE-RADIUS=500;X-TITLE=8200 Health Center Blvd Ste 104:geo:-81.808101,26.316614
END:VEVENT
BEGIN:VEVENT
DTSTART;TZID=America/New_York:20270126T100000
DTEND;TZID=America/New_York:20270126T143000
DTSTAMP:20260421T021904
CREATED:20251024T171634Z
LAST-MODIFIED:20251029T192758Z
UID:10006728-1800957600-1800973800@centers4ms.org
SUMMARY:MSCC Buckingham
DESCRIPTION:10:00 Yoga\n11:00 Support Group\n12:00 Lunch\n12:45 Art Class
URL:https://centers4ms.org/event/mscc-buckingham-11-2/2027-01-26/
LOCATION:FL
CATEGORIES:MS Community Center
END:VEVENT
BEGIN:VEVENT
DTSTART;TZID=America/New_York:20270127T110000
DTEND;TZID=America/New_York:20270127T143000
DTSTAMP:20260421T021904
CREATED:20251024T172646Z
LAST-MODIFIED:20251024T172647Z
UID:10006986-1801047600-1801060200@centers4ms.org
SUMMARY:MSCC South Naples
DESCRIPTION:No Yoga\n11:00 Support Group\n12:00 Lunch\n12:45 Art Class
URL:https://centers4ms.org/event/mscc-south-naples-17-3/2027-01-27/
LOCATION:FL
CATEGORIES:MS Community Center
END:VEVENT
BEGIN:VEVENT
DTSTART;TZID=America/New_York:20270128T100000
DTEND;TZID=America/New_York:20270128T143000
DTSTAMP:20260421T021904
CREATED:20250612T153605Z
LAST-MODIFIED:20250612T153658Z
UID:10003707-1801130400-1801146600@centers4ms.org
SUMMARY:MSCC Cape Coral
DESCRIPTION:10:00 Yoga\n11:00 Support Group\n12:00 Lunch\n12:45 Art Class
URL:https://centers4ms.org/event/mscc-cape-coral-new-exercise-instructor-4-2/2027-01-28/
LOCATION:FL
CATEGORIES:MS Community Center
END:VEVENT
END:VCALENDAR