BEGIN:VCALENDAR
VERSION:2.0
PRODID:-//Centers for Multiple Sclerosis - ECPv6.15.20//NONSGML v1.0//EN
CALSCALE:GREGORIAN
METHOD:PUBLISH
X-ORIGINAL-URL:https://centers4ms.org
X-WR-CALDESC:Events for Centers for Multiple Sclerosis
REFRESH-INTERVAL;VALUE=DURATION:PT1H
X-Robots-Tag:noindex
X-PUBLISHED-TTL:PT1H
BEGIN:VTIMEZONE
TZID:America/New_York
BEGIN:DAYLIGHT
TZOFFSETFROM:-0500
TZOFFSETTO:-0400
TZNAME:EDT
DTSTART:20260308T070000
END:DAYLIGHT
BEGIN:STANDARD
TZOFFSETFROM:-0400
TZOFFSETTO:-0500
TZNAME:EST
DTSTART:20261101T060000
END:STANDARD
BEGIN:DAYLIGHT
TZOFFSETFROM:-0500
TZOFFSETTO:-0400
TZNAME:EDT
DTSTART:20270314T070000
END:DAYLIGHT
BEGIN:STANDARD
TZOFFSETFROM:-0400
TZOFFSETTO:-0500
TZNAME:EST
DTSTART:20271107T060000
END:STANDARD
BEGIN:DAYLIGHT
TZOFFSETFROM:-0500
TZOFFSETTO:-0400
TZNAME:EDT
DTSTART:20280312T070000
END:DAYLIGHT
BEGIN:STANDARD
TZOFFSETFROM:-0400
TZOFFSETTO:-0500
TZNAME:EST
DTSTART:20281105T060000
END:STANDARD
END:VTIMEZONE
BEGIN:VEVENT
DTSTART;TZID=America/New_York:20270401T100000
DTEND;TZID=America/New_York:20270401T143000
DTSTAMP:20260421T064430
CREATED:20250612T153605Z
LAST-MODIFIED:20250612T153658Z
UID:10003716-1806573600-1806589800@centers4ms.org
SUMMARY:MSCC Cape Coral
DESCRIPTION:10:00 Yoga\n11:00 Support Group\n12:00 Lunch\n12:45 Art Class
URL:https://centers4ms.org/event/mscc-cape-coral-new-exercise-instructor-4-2/2027-04-01/
LOCATION:FL
CATEGORIES:MS Community Center
END:VEVENT
BEGIN:VEVENT
DTSTART;TZID=America/New_York:20270405T100000
DTEND;TZID=America/New_York:20270405T143000
DTSTAMP:20260421T064430
CREATED:20250918T125947Z
LAST-MODIFIED:20251017T155126Z
UID:10006438-1806919200-1806935400@centers4ms.org
SUMMARY:MSCC Estero
DESCRIPTION:10:00 Strength and Balance*\n11:00 Support Group\n12:00 Lunch\n12:45 Art Class \n*In Person or Via Zoom (hybrid class)
URL:https://centers4ms.org/event/mscc-estero-13-3/2027-04-05/
LOCATION:MSCC Estero\, 8200 Health Center Blvd Ste 104\, Bonita Springs\, FL\, 34135\, United States
CATEGORIES:MS Community Center
ATTACH;FMTTYPE=image/png:https://centers4ms.org/wp-content/uploads/2024/08/2.png
ORGANIZER;CN="Centers for Multiple Sclerosis":MAILTO:Tim@centers4ms.org
GEO:26.316614;-81.808101
X-APPLE-STRUCTURED-LOCATION;VALUE=URI;X-ADDRESS=MSCC Estero 8200 Health Center Blvd Ste 104 Bonita Springs FL 34135 United States;X-APPLE-RADIUS=500;X-TITLE=8200 Health Center Blvd Ste 104:geo:-81.808101,26.316614
END:VEVENT
BEGIN:VEVENT
DTSTART;TZID=America/New_York:20270406T100000
DTEND;TZID=America/New_York:20270406T143000
DTSTAMP:20260421T064430
CREATED:20251024T171634Z
LAST-MODIFIED:20251029T192758Z
UID:10006738-1807005600-1807021800@centers4ms.org
SUMMARY:MSCC Buckingham
DESCRIPTION:10:00 Yoga\n11:00 Support Group\n12:00 Lunch\n12:45 Art Class
URL:https://centers4ms.org/event/mscc-buckingham-11-2/2027-04-06/
LOCATION:FL
CATEGORIES:MS Community Center
END:VEVENT
BEGIN:VEVENT
DTSTART;TZID=America/New_York:20270407T110000
DTEND;TZID=America/New_York:20270407T143000
DTSTAMP:20260421T064430
CREATED:20251024T172646Z
LAST-MODIFIED:20251024T172647Z
UID:10006996-1807095600-1807108200@centers4ms.org
SUMMARY:MSCC South Naples
DESCRIPTION:No Yoga\n11:00 Support Group\n12:00 Lunch\n12:45 Art Class
URL:https://centers4ms.org/event/mscc-south-naples-17-3/2027-04-07/
LOCATION:FL
CATEGORIES:MS Community Center
END:VEVENT
BEGIN:VEVENT
DTSTART;TZID=America/New_York:20270408T100000
DTEND;TZID=America/New_York:20270408T143000
DTSTAMP:20260421T064430
CREATED:20250612T153605Z
LAST-MODIFIED:20250612T153658Z
UID:10003717-1807178400-1807194600@centers4ms.org
SUMMARY:MSCC Cape Coral
DESCRIPTION:10:00 Yoga\n11:00 Support Group\n12:00 Lunch\n12:45 Art Class
URL:https://centers4ms.org/event/mscc-cape-coral-new-exercise-instructor-4-2/2027-04-08/
LOCATION:FL
CATEGORIES:MS Community Center
END:VEVENT
BEGIN:VEVENT
DTSTART;TZID=America/New_York:20270412T100000
DTEND;TZID=America/New_York:20270412T143000
DTSTAMP:20260421T064430
CREATED:20250918T125947Z
LAST-MODIFIED:20251017T155126Z
UID:10006439-1807524000-1807540200@centers4ms.org
SUMMARY:MSCC Estero
DESCRIPTION:10:00 Strength and Balance*\n11:00 Support Group\n12:00 Lunch\n12:45 Art Class \n*In Person or Via Zoom (hybrid class)
URL:https://centers4ms.org/event/mscc-estero-13-3/2027-04-12/
LOCATION:MSCC Estero\, 8200 Health Center Blvd Ste 104\, Bonita Springs\, FL\, 34135\, United States
CATEGORIES:MS Community Center
ATTACH;FMTTYPE=image/png:https://centers4ms.org/wp-content/uploads/2024/08/2.png
ORGANIZER;CN="Centers for Multiple Sclerosis":MAILTO:Tim@centers4ms.org
GEO:26.316614;-81.808101
X-APPLE-STRUCTURED-LOCATION;VALUE=URI;X-ADDRESS=MSCC Estero 8200 Health Center Blvd Ste 104 Bonita Springs FL 34135 United States;X-APPLE-RADIUS=500;X-TITLE=8200 Health Center Blvd Ste 104:geo:-81.808101,26.316614
END:VEVENT
BEGIN:VEVENT
DTSTART;TZID=America/New_York:20270413T100000
DTEND;TZID=America/New_York:20270413T143000
DTSTAMP:20260421T064430
CREATED:20251024T171634Z
LAST-MODIFIED:20251029T192758Z
UID:10006739-1807610400-1807626600@centers4ms.org
SUMMARY:MSCC Buckingham
DESCRIPTION:10:00 Yoga\n11:00 Support Group\n12:00 Lunch\n12:45 Art Class
URL:https://centers4ms.org/event/mscc-buckingham-11-2/2027-04-13/
LOCATION:FL
CATEGORIES:MS Community Center
END:VEVENT
BEGIN:VEVENT
DTSTART;TZID=America/New_York:20270414T110000
DTEND;TZID=America/New_York:20270414T143000
DTSTAMP:20260421T064430
CREATED:20251024T172646Z
LAST-MODIFIED:20251024T172647Z
UID:10006997-1807700400-1807713000@centers4ms.org
SUMMARY:MSCC South Naples
DESCRIPTION:No Yoga\n11:00 Support Group\n12:00 Lunch\n12:45 Art Class
URL:https://centers4ms.org/event/mscc-south-naples-17-3/2027-04-14/
LOCATION:FL
CATEGORIES:MS Community Center
END:VEVENT
BEGIN:VEVENT
DTSTART;TZID=America/New_York:20270415T100000
DTEND;TZID=America/New_York:20270415T143000
DTSTAMP:20260421T064430
CREATED:20250612T153605Z
LAST-MODIFIED:20250612T153658Z
UID:10003718-1807783200-1807799400@centers4ms.org
SUMMARY:MSCC Cape Coral
DESCRIPTION:10:00 Yoga\n11:00 Support Group\n12:00 Lunch\n12:45 Art Class
URL:https://centers4ms.org/event/mscc-cape-coral-new-exercise-instructor-4-2/2027-04-15/
LOCATION:FL
CATEGORIES:MS Community Center
END:VEVENT
BEGIN:VEVENT
DTSTART;TZID=America/New_York:20270419T100000
DTEND;TZID=America/New_York:20270419T143000
DTSTAMP:20260421T064430
CREATED:20250918T125947Z
LAST-MODIFIED:20251017T155126Z
UID:10006440-1808128800-1808145000@centers4ms.org
SUMMARY:MSCC Estero
DESCRIPTION:10:00 Strength and Balance*\n11:00 Support Group\n12:00 Lunch\n12:45 Art Class \n*In Person or Via Zoom (hybrid class)
URL:https://centers4ms.org/event/mscc-estero-13-3/2027-04-19/
LOCATION:MSCC Estero\, 8200 Health Center Blvd Ste 104\, Bonita Springs\, FL\, 34135\, United States
CATEGORIES:MS Community Center
ATTACH;FMTTYPE=image/png:https://centers4ms.org/wp-content/uploads/2024/08/2.png
ORGANIZER;CN="Centers for Multiple Sclerosis":MAILTO:Tim@centers4ms.org
GEO:26.316614;-81.808101
X-APPLE-STRUCTURED-LOCATION;VALUE=URI;X-ADDRESS=MSCC Estero 8200 Health Center Blvd Ste 104 Bonita Springs FL 34135 United States;X-APPLE-RADIUS=500;X-TITLE=8200 Health Center Blvd Ste 104:geo:-81.808101,26.316614
END:VEVENT
BEGIN:VEVENT
DTSTART;TZID=America/New_York:20270420T100000
DTEND;TZID=America/New_York:20270420T143000
DTSTAMP:20260421T064430
CREATED:20251024T171634Z
LAST-MODIFIED:20251029T192758Z
UID:10006740-1808215200-1808231400@centers4ms.org
SUMMARY:MSCC Buckingham
DESCRIPTION:10:00 Yoga\n11:00 Support Group\n12:00 Lunch\n12:45 Art Class
URL:https://centers4ms.org/event/mscc-buckingham-11-2/2027-04-20/
LOCATION:FL
CATEGORIES:MS Community Center
END:VEVENT
BEGIN:VEVENT
DTSTART;TZID=America/New_York:20270421T110000
DTEND;TZID=America/New_York:20270421T143000
DTSTAMP:20260421T064430
CREATED:20251024T172646Z
LAST-MODIFIED:20251024T172647Z
UID:10006998-1808305200-1808317800@centers4ms.org
SUMMARY:MSCC South Naples
DESCRIPTION:No Yoga\n11:00 Support Group\n12:00 Lunch\n12:45 Art Class
URL:https://centers4ms.org/event/mscc-south-naples-17-3/2027-04-21/
LOCATION:FL
CATEGORIES:MS Community Center
END:VEVENT
BEGIN:VEVENT
DTSTART;TZID=America/New_York:20270422T100000
DTEND;TZID=America/New_York:20270422T143000
DTSTAMP:20260421T064430
CREATED:20250612T153605Z
LAST-MODIFIED:20250612T153658Z
UID:10003719-1808388000-1808404200@centers4ms.org
SUMMARY:MSCC Cape Coral
DESCRIPTION:10:00 Yoga\n11:00 Support Group\n12:00 Lunch\n12:45 Art Class
URL:https://centers4ms.org/event/mscc-cape-coral-new-exercise-instructor-4-2/2027-04-22/
LOCATION:FL
CATEGORIES:MS Community Center
END:VEVENT
BEGIN:VEVENT
DTSTART;TZID=America/New_York:20270426T100000
DTEND;TZID=America/New_York:20270426T143000
DTSTAMP:20260421T064430
CREATED:20250918T125947Z
LAST-MODIFIED:20251017T155126Z
UID:10006441-1808733600-1808749800@centers4ms.org
SUMMARY:MSCC Estero
DESCRIPTION:10:00 Strength and Balance*\n11:00 Support Group\n12:00 Lunch\n12:45 Art Class \n*In Person or Via Zoom (hybrid class)
URL:https://centers4ms.org/event/mscc-estero-13-3/2027-04-26/
LOCATION:MSCC Estero\, 8200 Health Center Blvd Ste 104\, Bonita Springs\, FL\, 34135\, United States
CATEGORIES:MS Community Center
ATTACH;FMTTYPE=image/png:https://centers4ms.org/wp-content/uploads/2024/08/2.png
ORGANIZER;CN="Centers for Multiple Sclerosis":MAILTO:Tim@centers4ms.org
GEO:26.316614;-81.808101
X-APPLE-STRUCTURED-LOCATION;VALUE=URI;X-ADDRESS=MSCC Estero 8200 Health Center Blvd Ste 104 Bonita Springs FL 34135 United States;X-APPLE-RADIUS=500;X-TITLE=8200 Health Center Blvd Ste 104:geo:-81.808101,26.316614
END:VEVENT
BEGIN:VEVENT
DTSTART;TZID=America/New_York:20270427T100000
DTEND;TZID=America/New_York:20270427T143000
DTSTAMP:20260421T064430
CREATED:20251024T171634Z
LAST-MODIFIED:20251029T192758Z
UID:10006741-1808820000-1808836200@centers4ms.org
SUMMARY:MSCC Buckingham
DESCRIPTION:10:00 Yoga\n11:00 Support Group\n12:00 Lunch\n12:45 Art Class
URL:https://centers4ms.org/event/mscc-buckingham-11-2/2027-04-27/
LOCATION:FL
CATEGORIES:MS Community Center
END:VEVENT
BEGIN:VEVENT
DTSTART;TZID=America/New_York:20270428T110000
DTEND;TZID=America/New_York:20270428T143000
DTSTAMP:20260421T064430
CREATED:20251024T172646Z
LAST-MODIFIED:20251024T172647Z
UID:10006999-1808910000-1808922600@centers4ms.org
SUMMARY:MSCC South Naples
DESCRIPTION:No Yoga\n11:00 Support Group\n12:00 Lunch\n12:45 Art Class
URL:https://centers4ms.org/event/mscc-south-naples-17-3/2027-04-28/
LOCATION:FL
CATEGORIES:MS Community Center
END:VEVENT
BEGIN:VEVENT
DTSTART;TZID=America/New_York:20270429T100000
DTEND;TZID=America/New_York:20270429T143000
DTSTAMP:20260421T064430
CREATED:20250612T153605Z
LAST-MODIFIED:20250612T153658Z
UID:10003720-1808992800-1809009000@centers4ms.org
SUMMARY:MSCC Cape Coral
DESCRIPTION:10:00 Yoga\n11:00 Support Group\n12:00 Lunch\n12:45 Art Class
URL:https://centers4ms.org/event/mscc-cape-coral-new-exercise-instructor-4-2/2027-04-29/
LOCATION:FL
CATEGORIES:MS Community Center
END:VEVENT
END:VCALENDAR