BEGIN:VCALENDAR
VERSION:2.0
PRODID:-//Centers for Multiple Sclerosis - ECPv6.15.20//NONSGML v1.0//EN
CALSCALE:GREGORIAN
METHOD:PUBLISH
X-WR-CALNAME:Centers for Multiple Sclerosis
X-ORIGINAL-URL:https://centers4ms.org
X-WR-CALDESC:Events for Centers for Multiple Sclerosis
REFRESH-INTERVAL;VALUE=DURATION:PT1H
X-Robots-Tag:noindex
X-PUBLISHED-TTL:PT1H
BEGIN:VTIMEZONE
TZID:America/New_York
BEGIN:DAYLIGHT
TZOFFSETFROM:-0500
TZOFFSETTO:-0400
TZNAME:EDT
DTSTART:20250309T070000
END:DAYLIGHT
BEGIN:STANDARD
TZOFFSETFROM:-0400
TZOFFSETTO:-0500
TZNAME:EST
DTSTART:20251102T060000
END:STANDARD
BEGIN:DAYLIGHT
TZOFFSETFROM:-0500
TZOFFSETTO:-0400
TZNAME:EDT
DTSTART:20260308T070000
END:DAYLIGHT
BEGIN:STANDARD
TZOFFSETFROM:-0400
TZOFFSETTO:-0500
TZNAME:EST
DTSTART:20261101T060000
END:STANDARD
BEGIN:DAYLIGHT
TZOFFSETFROM:-0500
TZOFFSETTO:-0400
TZNAME:EDT
DTSTART:20270314T070000
END:DAYLIGHT
BEGIN:STANDARD
TZOFFSETFROM:-0400
TZOFFSETTO:-0500
TZNAME:EST
DTSTART:20271107T060000
END:STANDARD
END:VTIMEZONE
BEGIN:VEVENT
DTSTART;TZID=America/New_York:20260422T110000
DTEND;TZID=America/New_York:20260422T143000
DTSTAMP:20260419T130254
CREATED:20251024T172646Z
LAST-MODIFIED:20251024T172647Z
UID:10006946-1776855600-1776868200@centers4ms.org
SUMMARY:MSCC South Naples
DESCRIPTION:No Yoga\n11:00 Support Group\n12:00 Lunch\n12:45 Art Class
URL:https://centers4ms.org/event/mscc-south-naples-17-3/2026-04-22/
LOCATION:FL
CATEGORIES:MS Community Center
END:VEVENT
END:VCALENDAR