BEGIN:VCALENDAR
VERSION:2.0
PRODID:-//Centers for Multiple Sclerosis - ECPv6.15.20//NONSGML v1.0//EN
CALSCALE:GREGORIAN
METHOD:PUBLISH
X-WR-CALNAME:Centers for Multiple Sclerosis
X-ORIGINAL-URL:https://centers4ms.org
X-WR-CALDESC:Events for Centers for Multiple Sclerosis
REFRESH-INTERVAL;VALUE=DURATION:PT1H
X-Robots-Tag:noindex
X-PUBLISHED-TTL:PT1H
BEGIN:VTIMEZONE
TZID:America/New_York
BEGIN:DAYLIGHT
TZOFFSETFROM:-0500
TZOFFSETTO:-0400
TZNAME:EDT
DTSTART:20250309T070000
END:DAYLIGHT
BEGIN:STANDARD
TZOFFSETFROM:-0400
TZOFFSETTO:-0500
TZNAME:EST
DTSTART:20251102T060000
END:STANDARD
BEGIN:DAYLIGHT
TZOFFSETFROM:-0500
TZOFFSETTO:-0400
TZNAME:EDT
DTSTART:20260308T070000
END:DAYLIGHT
BEGIN:STANDARD
TZOFFSETFROM:-0400
TZOFFSETTO:-0500
TZNAME:EST
DTSTART:20261101T060000
END:STANDARD
BEGIN:DAYLIGHT
TZOFFSETFROM:-0500
TZOFFSETTO:-0400
TZNAME:EDT
DTSTART:20270314T070000
END:DAYLIGHT
BEGIN:STANDARD
TZOFFSETFROM:-0400
TZOFFSETTO:-0500
TZNAME:EST
DTSTART:20271107T060000
END:STANDARD
END:VTIMEZONE
BEGIN:VEVENT
DTSTART;TZID=America/New_York:20260421T100000
DTEND;TZID=America/New_York:20260421T143000
DTSTAMP:20260420T052943
CREATED:20251024T171634Z
LAST-MODIFIED:20251029T192758Z
UID:10006688-1776765600-1776781800@centers4ms.org
SUMMARY:MSCC Buckingham
DESCRIPTION:10:00 Yoga\n11:00 Support Group\n12:00 Lunch\n12:45 Art Class
URL:https://centers4ms.org/event/mscc-buckingham-11-2/2026-04-21/
CATEGORIES:MS Community Center
END:VEVENT
BEGIN:VEVENT
DTSTART;TZID=America/New_York:20260428T100000
DTEND;TZID=America/New_York:20260428T143000
DTSTAMP:20260420T052943
CREATED:20251024T171634Z
LAST-MODIFIED:20251029T192758Z
UID:10006689-1777370400-1777386600@centers4ms.org
SUMMARY:MSCC Buckingham
DESCRIPTION:10:00 Yoga\n11:00 Support Group\n12:00 Lunch\n12:45 Art Class
URL:https://centers4ms.org/event/mscc-buckingham-11-2/2026-04-28/
CATEGORIES:MS Community Center
END:VEVENT
BEGIN:VEVENT
DTSTART;TZID=America/New_York:20260505T100000
DTEND;TZID=America/New_York:20260505T143000
DTSTAMP:20260420T052943
CREATED:20251024T171634Z
LAST-MODIFIED:20251029T192758Z
UID:10006690-1777975200-1777991400@centers4ms.org
SUMMARY:MSCC Buckingham
DESCRIPTION:10:00 Yoga\n11:00 Support Group\n12:00 Lunch\n12:45 Art Class
URL:https://centers4ms.org/event/mscc-buckingham-11-2/2026-05-05/
CATEGORIES:MS Community Center
END:VEVENT
BEGIN:VEVENT
DTSTART;TZID=America/New_York:20260512T100000
DTEND;TZID=America/New_York:20260512T143000
DTSTAMP:20260420T052943
CREATED:20251024T171634Z
LAST-MODIFIED:20251029T192758Z
UID:10006691-1778580000-1778596200@centers4ms.org
SUMMARY:MSCC Buckingham
DESCRIPTION:10:00 Yoga\n11:00 Support Group\n12:00 Lunch\n12:45 Art Class
URL:https://centers4ms.org/event/mscc-buckingham-11-2/2026-05-12/
CATEGORIES:MS Community Center
END:VEVENT
BEGIN:VEVENT
DTSTART;TZID=America/New_York:20260519T100000
DTEND;TZID=America/New_York:20260519T143000
DTSTAMP:20260420T052943
CREATED:20251024T171634Z
LAST-MODIFIED:20251029T192758Z
UID:10006692-1779184800-1779201000@centers4ms.org
SUMMARY:MSCC Buckingham
DESCRIPTION:10:00 Yoga\n11:00 Support Group\n12:00 Lunch\n12:45 Art Class
URL:https://centers4ms.org/event/mscc-buckingham-11-2/2026-05-19/
CATEGORIES:MS Community Center
END:VEVENT
BEGIN:VEVENT
DTSTART;TZID=America/New_York:20260526T100000
DTEND;TZID=America/New_York:20260526T143000
DTSTAMP:20260420T052943
CREATED:20251024T171634Z
LAST-MODIFIED:20251029T192758Z
UID:10006693-1779789600-1779805800@centers4ms.org
SUMMARY:MSCC Buckingham
DESCRIPTION:10:00 Yoga\n11:00 Support Group\n12:00 Lunch\n12:45 Art Class
URL:https://centers4ms.org/event/mscc-buckingham-11-2/2026-05-26/
CATEGORIES:MS Community Center
END:VEVENT
BEGIN:VEVENT
DTSTART;TZID=America/New_York:20260602T100000
DTEND;TZID=America/New_York:20260602T143000
DTSTAMP:20260420T052943
CREATED:20251024T171634Z
LAST-MODIFIED:20251029T192758Z
UID:10006694-1780394400-1780410600@centers4ms.org
SUMMARY:MSCC Buckingham
DESCRIPTION:10:00 Yoga\n11:00 Support Group\n12:00 Lunch\n12:45 Art Class
URL:https://centers4ms.org/event/mscc-buckingham-11-2/2026-06-02/
CATEGORIES:MS Community Center
END:VEVENT
BEGIN:VEVENT
DTSTART;TZID=America/New_York:20260609T100000
DTEND;TZID=America/New_York:20260609T143000
DTSTAMP:20260420T052943
CREATED:20251024T171634Z
LAST-MODIFIED:20251029T192758Z
UID:10006695-1780999200-1781015400@centers4ms.org
SUMMARY:MSCC Buckingham
DESCRIPTION:10:00 Yoga\n11:00 Support Group\n12:00 Lunch\n12:45 Art Class
URL:https://centers4ms.org/event/mscc-buckingham-11-2/2026-06-09/
CATEGORIES:MS Community Center
END:VEVENT
BEGIN:VEVENT
DTSTART;TZID=America/New_York:20260616T100000
DTEND;TZID=America/New_York:20260616T143000
DTSTAMP:20260420T052943
CREATED:20251024T171634Z
LAST-MODIFIED:20251029T192758Z
UID:10006696-1781604000-1781620200@centers4ms.org
SUMMARY:MSCC Buckingham
DESCRIPTION:10:00 Yoga\n11:00 Support Group\n12:00 Lunch\n12:45 Art Class
URL:https://centers4ms.org/event/mscc-buckingham-11-2/2026-06-16/
CATEGORIES:MS Community Center
END:VEVENT
BEGIN:VEVENT
DTSTART;TZID=America/New_York:20260623T100000
DTEND;TZID=America/New_York:20260623T143000
DTSTAMP:20260420T052943
CREATED:20251024T171634Z
LAST-MODIFIED:20251029T192758Z
UID:10006697-1782208800-1782225000@centers4ms.org
SUMMARY:MSCC Buckingham
DESCRIPTION:10:00 Yoga\n11:00 Support Group\n12:00 Lunch\n12:45 Art Class
URL:https://centers4ms.org/event/mscc-buckingham-11-2/2026-06-23/
CATEGORIES:MS Community Center
END:VEVENT
BEGIN:VEVENT
DTSTART;TZID=America/New_York:20260630T100000
DTEND;TZID=America/New_York:20260630T143000
DTSTAMP:20260420T052943
CREATED:20251024T171634Z
LAST-MODIFIED:20251029T192758Z
UID:10006698-1782813600-1782829800@centers4ms.org
SUMMARY:MSCC Buckingham
DESCRIPTION:10:00 Yoga\n11:00 Support Group\n12:00 Lunch\n12:45 Art Class
URL:https://centers4ms.org/event/mscc-buckingham-11-2/2026-06-30/
CATEGORIES:MS Community Center
END:VEVENT
BEGIN:VEVENT
DTSTART;TZID=America/New_York:20260707T100000
DTEND;TZID=America/New_York:20260707T143000
DTSTAMP:20260420T052943
CREATED:20251024T171634Z
LAST-MODIFIED:20251029T192758Z
UID:10006699-1783418400-1783434600@centers4ms.org
SUMMARY:MSCC Buckingham
DESCRIPTION:10:00 Yoga\n11:00 Support Group\n12:00 Lunch\n12:45 Art Class
URL:https://centers4ms.org/event/mscc-buckingham-11-2/2026-07-07/
CATEGORIES:MS Community Center
END:VEVENT
BEGIN:VEVENT
DTSTART;TZID=America/New_York:20260714T100000
DTEND;TZID=America/New_York:20260714T143000
DTSTAMP:20260420T052943
CREATED:20251024T171634Z
LAST-MODIFIED:20251029T192758Z
UID:10006700-1784023200-1784039400@centers4ms.org
SUMMARY:MSCC Buckingham
DESCRIPTION:10:00 Yoga\n11:00 Support Group\n12:00 Lunch\n12:45 Art Class
URL:https://centers4ms.org/event/mscc-buckingham-11-2/2026-07-14/
CATEGORIES:MS Community Center
END:VEVENT
BEGIN:VEVENT
DTSTART;TZID=America/New_York:20260721T100000
DTEND;TZID=America/New_York:20260721T143000
DTSTAMP:20260420T052943
CREATED:20251024T171634Z
LAST-MODIFIED:20251029T192758Z
UID:10006701-1784628000-1784644200@centers4ms.org
SUMMARY:MSCC Buckingham
DESCRIPTION:10:00 Yoga\n11:00 Support Group\n12:00 Lunch\n12:45 Art Class
URL:https://centers4ms.org/event/mscc-buckingham-11-2/2026-07-21/
CATEGORIES:MS Community Center
END:VEVENT
BEGIN:VEVENT
DTSTART;TZID=America/New_York:20260728T100000
DTEND;TZID=America/New_York:20260728T143000
DTSTAMP:20260420T052943
CREATED:20251024T171634Z
LAST-MODIFIED:20251029T192758Z
UID:10006702-1785232800-1785249000@centers4ms.org
SUMMARY:MSCC Buckingham
DESCRIPTION:10:00 Yoga\n11:00 Support Group\n12:00 Lunch\n12:45 Art Class
URL:https://centers4ms.org/event/mscc-buckingham-11-2/2026-07-28/
CATEGORIES:MS Community Center
END:VEVENT
BEGIN:VEVENT
DTSTART;TZID=America/New_York:20260804T100000
DTEND;TZID=America/New_York:20260804T143000
DTSTAMP:20260420T052943
CREATED:20251024T171634Z
LAST-MODIFIED:20251029T192758Z
UID:10006703-1785837600-1785853800@centers4ms.org
SUMMARY:MSCC Buckingham
DESCRIPTION:10:00 Yoga\n11:00 Support Group\n12:00 Lunch\n12:45 Art Class
URL:https://centers4ms.org/event/mscc-buckingham-11-2/2026-08-04/
CATEGORIES:MS Community Center
END:VEVENT
BEGIN:VEVENT
DTSTART;TZID=America/New_York:20260811T100000
DTEND;TZID=America/New_York:20260811T143000
DTSTAMP:20260420T052943
CREATED:20251024T171634Z
LAST-MODIFIED:20251029T192758Z
UID:10006704-1786442400-1786458600@centers4ms.org
SUMMARY:MSCC Buckingham
DESCRIPTION:10:00 Yoga\n11:00 Support Group\n12:00 Lunch\n12:45 Art Class
URL:https://centers4ms.org/event/mscc-buckingham-11-2/2026-08-11/
CATEGORIES:MS Community Center
END:VEVENT
BEGIN:VEVENT
DTSTART;TZID=America/New_York:20260818T100000
DTEND;TZID=America/New_York:20260818T143000
DTSTAMP:20260420T052943
CREATED:20251024T171634Z
LAST-MODIFIED:20251029T192758Z
UID:10006705-1787047200-1787063400@centers4ms.org
SUMMARY:MSCC Buckingham
DESCRIPTION:10:00 Yoga\n11:00 Support Group\n12:00 Lunch\n12:45 Art Class
URL:https://centers4ms.org/event/mscc-buckingham-11-2/2026-08-18/
CATEGORIES:MS Community Center
END:VEVENT
BEGIN:VEVENT
DTSTART;TZID=America/New_York:20260825T100000
DTEND;TZID=America/New_York:20260825T143000
DTSTAMP:20260420T052943
CREATED:20251024T171634Z
LAST-MODIFIED:20251029T192758Z
UID:10006706-1787652000-1787668200@centers4ms.org
SUMMARY:MSCC Buckingham
DESCRIPTION:10:00 Yoga\n11:00 Support Group\n12:00 Lunch\n12:45 Art Class
URL:https://centers4ms.org/event/mscc-buckingham-11-2/2026-08-25/
CATEGORIES:MS Community Center
END:VEVENT
BEGIN:VEVENT
DTSTART;TZID=America/New_York:20260901T100000
DTEND;TZID=America/New_York:20260901T143000
DTSTAMP:20260420T052943
CREATED:20251024T171634Z
LAST-MODIFIED:20251029T192758Z
UID:10006707-1788256800-1788273000@centers4ms.org
SUMMARY:MSCC Buckingham
DESCRIPTION:10:00 Yoga\n11:00 Support Group\n12:00 Lunch\n12:45 Art Class
URL:https://centers4ms.org/event/mscc-buckingham-11-2/2026-09-01/
CATEGORIES:MS Community Center
END:VEVENT
BEGIN:VEVENT
DTSTART;TZID=America/New_York:20260908T100000
DTEND;TZID=America/New_York:20260908T143000
DTSTAMP:20260420T052943
CREATED:20251024T171634Z
LAST-MODIFIED:20251029T192758Z
UID:10006708-1788861600-1788877800@centers4ms.org
SUMMARY:MSCC Buckingham
DESCRIPTION:10:00 Yoga\n11:00 Support Group\n12:00 Lunch\n12:45 Art Class
URL:https://centers4ms.org/event/mscc-buckingham-11-2/2026-09-08/
CATEGORIES:MS Community Center
END:VEVENT
BEGIN:VEVENT
DTSTART;TZID=America/New_York:20260915T100000
DTEND;TZID=America/New_York:20260915T143000
DTSTAMP:20260420T052943
CREATED:20251024T171634Z
LAST-MODIFIED:20251029T192758Z
UID:10006709-1789466400-1789482600@centers4ms.org
SUMMARY:MSCC Buckingham
DESCRIPTION:10:00 Yoga\n11:00 Support Group\n12:00 Lunch\n12:45 Art Class
URL:https://centers4ms.org/event/mscc-buckingham-11-2/2026-09-15/
CATEGORIES:MS Community Center
END:VEVENT
BEGIN:VEVENT
DTSTART;TZID=America/New_York:20260922T100000
DTEND;TZID=America/New_York:20260922T143000
DTSTAMP:20260420T052943
CREATED:20251024T171634Z
LAST-MODIFIED:20251029T192758Z
UID:10006710-1790071200-1790087400@centers4ms.org
SUMMARY:MSCC Buckingham
DESCRIPTION:10:00 Yoga\n11:00 Support Group\n12:00 Lunch\n12:45 Art Class
URL:https://centers4ms.org/event/mscc-buckingham-11-2/2026-09-22/
CATEGORIES:MS Community Center
END:VEVENT
BEGIN:VEVENT
DTSTART;TZID=America/New_York:20260929T100000
DTEND;TZID=America/New_York:20260929T143000
DTSTAMP:20260420T052943
CREATED:20251024T171634Z
LAST-MODIFIED:20251029T192758Z
UID:10006711-1790676000-1790692200@centers4ms.org
SUMMARY:MSCC Buckingham
DESCRIPTION:10:00 Yoga\n11:00 Support Group\n12:00 Lunch\n12:45 Art Class
URL:https://centers4ms.org/event/mscc-buckingham-11-2/2026-09-29/
CATEGORIES:MS Community Center
END:VEVENT
BEGIN:VEVENT
DTSTART;TZID=America/New_York:20261006T100000
DTEND;TZID=America/New_York:20261006T143000
DTSTAMP:20260420T052943
CREATED:20251024T171634Z
LAST-MODIFIED:20251029T192758Z
UID:10006712-1791280800-1791297000@centers4ms.org
SUMMARY:MSCC Buckingham
DESCRIPTION:10:00 Yoga\n11:00 Support Group\n12:00 Lunch\n12:45 Art Class
URL:https://centers4ms.org/event/mscc-buckingham-11-2/2026-10-06/
CATEGORIES:MS Community Center
END:VEVENT
BEGIN:VEVENT
DTSTART;TZID=America/New_York:20261013T100000
DTEND;TZID=America/New_York:20261013T143000
DTSTAMP:20260420T052943
CREATED:20251024T171634Z
LAST-MODIFIED:20251029T192758Z
UID:10006713-1791885600-1791901800@centers4ms.org
SUMMARY:MSCC Buckingham
DESCRIPTION:10:00 Yoga\n11:00 Support Group\n12:00 Lunch\n12:45 Art Class
URL:https://centers4ms.org/event/mscc-buckingham-11-2/2026-10-13/
CATEGORIES:MS Community Center
END:VEVENT
BEGIN:VEVENT
DTSTART;TZID=America/New_York:20261020T100000
DTEND;TZID=America/New_York:20261020T143000
DTSTAMP:20260420T052943
CREATED:20251024T171634Z
LAST-MODIFIED:20251029T192758Z
UID:10006714-1792490400-1792506600@centers4ms.org
SUMMARY:MSCC Buckingham
DESCRIPTION:10:00 Yoga\n11:00 Support Group\n12:00 Lunch\n12:45 Art Class
URL:https://centers4ms.org/event/mscc-buckingham-11-2/2026-10-20/
CATEGORIES:MS Community Center
END:VEVENT
BEGIN:VEVENT
DTSTART;TZID=America/New_York:20261027T100000
DTEND;TZID=America/New_York:20261027T143000
DTSTAMP:20260420T052943
CREATED:20251024T171634Z
LAST-MODIFIED:20251029T192758Z
UID:10006715-1793095200-1793111400@centers4ms.org
SUMMARY:MSCC Buckingham
DESCRIPTION:10:00 Yoga\n11:00 Support Group\n12:00 Lunch\n12:45 Art Class
URL:https://centers4ms.org/event/mscc-buckingham-11-2/2026-10-27/
CATEGORIES:MS Community Center
END:VEVENT
BEGIN:VEVENT
DTSTART;TZID=America/New_York:20261103T100000
DTEND;TZID=America/New_York:20261103T143000
DTSTAMP:20260420T052943
CREATED:20251024T171634Z
LAST-MODIFIED:20251029T192758Z
UID:10006716-1793700000-1793716200@centers4ms.org
SUMMARY:MSCC Buckingham
DESCRIPTION:10:00 Yoga\n11:00 Support Group\n12:00 Lunch\n12:45 Art Class
URL:https://centers4ms.org/event/mscc-buckingham-11-2/2026-11-03/
CATEGORIES:MS Community Center
END:VEVENT
BEGIN:VEVENT
DTSTART;TZID=America/New_York:20261110T100000
DTEND;TZID=America/New_York:20261110T143000
DTSTAMP:20260420T052943
CREATED:20251024T171634Z
LAST-MODIFIED:20251029T192758Z
UID:10006717-1794304800-1794321000@centers4ms.org
SUMMARY:MSCC Buckingham
DESCRIPTION:10:00 Yoga\n11:00 Support Group\n12:00 Lunch\n12:45 Art Class
URL:https://centers4ms.org/event/mscc-buckingham-11-2/2026-11-10/
CATEGORIES:MS Community Center
END:VEVENT
END:VCALENDAR