BEGIN:VCALENDAR
VERSION:2.0
PRODID:-//Centers for Multiple Sclerosis - ECPv6.15.20//NONSGML v1.0//EN
CALSCALE:GREGORIAN
METHOD:PUBLISH
X-WR-CALNAME:Centers for Multiple Sclerosis
X-ORIGINAL-URL:https://centers4ms.org
X-WR-CALDESC:Events for Centers for Multiple Sclerosis
REFRESH-INTERVAL;VALUE=DURATION:PT1H
X-Robots-Tag:noindex
X-PUBLISHED-TTL:PT1H
BEGIN:VTIMEZONE
TZID:America/New_York
BEGIN:DAYLIGHT
TZOFFSETFROM:-0500
TZOFFSETTO:-0400
TZNAME:EDT
DTSTART:20250309T070000
END:DAYLIGHT
BEGIN:STANDARD
TZOFFSETFROM:-0400
TZOFFSETTO:-0500
TZNAME:EST
DTSTART:20251102T060000
END:STANDARD
BEGIN:DAYLIGHT
TZOFFSETFROM:-0500
TZOFFSETTO:-0400
TZNAME:EDT
DTSTART:20260308T070000
END:DAYLIGHT
BEGIN:STANDARD
TZOFFSETFROM:-0400
TZOFFSETTO:-0500
TZNAME:EST
DTSTART:20261101T060000
END:STANDARD
BEGIN:DAYLIGHT
TZOFFSETFROM:-0500
TZOFFSETTO:-0400
TZNAME:EDT
DTSTART:20270314T070000
END:DAYLIGHT
BEGIN:STANDARD
TZOFFSETFROM:-0400
TZOFFSETTO:-0500
TZNAME:EST
DTSTART:20271107T060000
END:STANDARD
END:VTIMEZONE
BEGIN:VEVENT
DTSTART;TZID=America/New_York:20260430T170000
DTEND;TZID=America/New_York:20260430T170000
DTSTAMP:20260424T143101
CREATED:20250206T061837Z
LAST-MODIFIED:20250730T155132Z
UID:10005509-1777568400-1777568400@centers4ms.org
SUMMARY:Watercolor Painting with Monique
DESCRIPTION:Zoom Class
URL:https://centers4ms.org/event/watercolor-painting-with-monique-38/2026-04-30/
LOCATION:Zoom
CATEGORIES:Art Class,Zoom Only
ATTACH;FMTTYPE=image/jpeg:https://centers4ms.org/wp-content/uploads/2019/09/paint-square.jpg
ORGANIZER;CN="Centers for Multiple Sclerosis":MAILTO:Tim@centers4ms.org
END:VEVENT
BEGIN:VEVENT
DTSTART;TZID=America/New_York:20260507T170000
DTEND;TZID=America/New_York:20260507T170000
DTSTAMP:20260424T143101
CREATED:20250206T061837Z
LAST-MODIFIED:20250730T155132Z
UID:10005510-1778173200-1778173200@centers4ms.org
SUMMARY:Watercolor Painting with Monique
DESCRIPTION:Zoom Class
URL:https://centers4ms.org/event/watercolor-painting-with-monique-38/2026-05-07/
LOCATION:Zoom
CATEGORIES:Art Class,Zoom Only
ATTACH;FMTTYPE=image/jpeg:https://centers4ms.org/wp-content/uploads/2019/09/paint-square.jpg
ORGANIZER;CN="Centers for Multiple Sclerosis":MAILTO:Tim@centers4ms.org
END:VEVENT
BEGIN:VEVENT
DTSTART;TZID=America/New_York:20260514T170000
DTEND;TZID=America/New_York:20260514T170000
DTSTAMP:20260424T143101
CREATED:20250206T061837Z
LAST-MODIFIED:20250730T155132Z
UID:10005511-1778778000-1778778000@centers4ms.org
SUMMARY:Watercolor Painting with Monique
DESCRIPTION:Zoom Class
URL:https://centers4ms.org/event/watercolor-painting-with-monique-38/2026-05-14/
LOCATION:Zoom
CATEGORIES:Art Class,Zoom Only
ATTACH;FMTTYPE=image/jpeg:https://centers4ms.org/wp-content/uploads/2019/09/paint-square.jpg
ORGANIZER;CN="Centers for Multiple Sclerosis":MAILTO:Tim@centers4ms.org
END:VEVENT
BEGIN:VEVENT
DTSTART;TZID=America/New_York:20260521T170000
DTEND;TZID=America/New_York:20260521T170000
DTSTAMP:20260424T143101
CREATED:20250206T061837Z
LAST-MODIFIED:20250730T155132Z
UID:10005512-1779382800-1779382800@centers4ms.org
SUMMARY:Watercolor Painting with Monique
DESCRIPTION:Zoom Class
URL:https://centers4ms.org/event/watercolor-painting-with-monique-38/2026-05-21/
LOCATION:Zoom
CATEGORIES:Art Class,Zoom Only
ATTACH;FMTTYPE=image/jpeg:https://centers4ms.org/wp-content/uploads/2019/09/paint-square.jpg
ORGANIZER;CN="Centers for Multiple Sclerosis":MAILTO:Tim@centers4ms.org
END:VEVENT
BEGIN:VEVENT
DTSTART;TZID=America/New_York:20260528T170000
DTEND;TZID=America/New_York:20260528T170000
DTSTAMP:20260424T143101
CREATED:20250206T061837Z
LAST-MODIFIED:20250730T155132Z
UID:10005513-1779987600-1779987600@centers4ms.org
SUMMARY:Watercolor Painting with Monique
DESCRIPTION:Zoom Class
URL:https://centers4ms.org/event/watercolor-painting-with-monique-38/2026-05-28/
LOCATION:Zoom
CATEGORIES:Art Class,Zoom Only
ATTACH;FMTTYPE=image/jpeg:https://centers4ms.org/wp-content/uploads/2019/09/paint-square.jpg
ORGANIZER;CN="Centers for Multiple Sclerosis":MAILTO:Tim@centers4ms.org
END:VEVENT
BEGIN:VEVENT
DTSTART;TZID=America/New_York:20260604T170000
DTEND;TZID=America/New_York:20260604T170000
DTSTAMP:20260424T143101
CREATED:20250206T061837Z
LAST-MODIFIED:20250730T155132Z
UID:10005514-1780592400-1780592400@centers4ms.org
SUMMARY:Watercolor Painting with Monique
DESCRIPTION:Zoom Class
URL:https://centers4ms.org/event/watercolor-painting-with-monique-38/2026-06-04/
LOCATION:Zoom
CATEGORIES:Art Class,Zoom Only
ATTACH;FMTTYPE=image/jpeg:https://centers4ms.org/wp-content/uploads/2019/09/paint-square.jpg
ORGANIZER;CN="Centers for Multiple Sclerosis":MAILTO:Tim@centers4ms.org
END:VEVENT
BEGIN:VEVENT
DTSTART;TZID=America/New_York:20260611T170000
DTEND;TZID=America/New_York:20260611T170000
DTSTAMP:20260424T143101
CREATED:20250206T061837Z
LAST-MODIFIED:20250730T155132Z
UID:10005515-1781197200-1781197200@centers4ms.org
SUMMARY:Watercolor Painting with Monique
DESCRIPTION:Zoom Class
URL:https://centers4ms.org/event/watercolor-painting-with-monique-38/2026-06-11/
LOCATION:Zoom
CATEGORIES:Art Class,Zoom Only
ATTACH;FMTTYPE=image/jpeg:https://centers4ms.org/wp-content/uploads/2019/09/paint-square.jpg
ORGANIZER;CN="Centers for Multiple Sclerosis":MAILTO:Tim@centers4ms.org
END:VEVENT
BEGIN:VEVENT
DTSTART;TZID=America/New_York:20260618T170000
DTEND;TZID=America/New_York:20260618T170000
DTSTAMP:20260424T143101
CREATED:20250206T061837Z
LAST-MODIFIED:20250730T155132Z
UID:10005516-1781802000-1781802000@centers4ms.org
SUMMARY:Watercolor Painting with Monique
DESCRIPTION:Zoom Class
URL:https://centers4ms.org/event/watercolor-painting-with-monique-38/2026-06-18/
LOCATION:Zoom
CATEGORIES:Art Class,Zoom Only
ATTACH;FMTTYPE=image/jpeg:https://centers4ms.org/wp-content/uploads/2019/09/paint-square.jpg
ORGANIZER;CN="Centers for Multiple Sclerosis":MAILTO:Tim@centers4ms.org
END:VEVENT
BEGIN:VEVENT
DTSTART;TZID=America/New_York:20260625T170000
DTEND;TZID=America/New_York:20260625T170000
DTSTAMP:20260424T143101
CREATED:20250206T061837Z
LAST-MODIFIED:20250730T155132Z
UID:10005517-1782406800-1782406800@centers4ms.org
SUMMARY:Watercolor Painting with Monique
DESCRIPTION:Zoom Class
URL:https://centers4ms.org/event/watercolor-painting-with-monique-38/2026-06-25/
LOCATION:Zoom
CATEGORIES:Art Class,Zoom Only
ATTACH;FMTTYPE=image/jpeg:https://centers4ms.org/wp-content/uploads/2019/09/paint-square.jpg
ORGANIZER;CN="Centers for Multiple Sclerosis":MAILTO:Tim@centers4ms.org
END:VEVENT
BEGIN:VEVENT
DTSTART;TZID=America/New_York:20260702T170000
DTEND;TZID=America/New_York:20260702T170000
DTSTAMP:20260424T143101
CREATED:20250206T061837Z
LAST-MODIFIED:20250730T155132Z
UID:10005518-1783011600-1783011600@centers4ms.org
SUMMARY:Watercolor Painting with Monique
DESCRIPTION:Zoom Class
URL:https://centers4ms.org/event/watercolor-painting-with-monique-38/2026-07-02/
LOCATION:Zoom
CATEGORIES:Art Class,Zoom Only
ATTACH;FMTTYPE=image/jpeg:https://centers4ms.org/wp-content/uploads/2019/09/paint-square.jpg
ORGANIZER;CN="Centers for Multiple Sclerosis":MAILTO:Tim@centers4ms.org
END:VEVENT
BEGIN:VEVENT
DTSTART;TZID=America/New_York:20260709T170000
DTEND;TZID=America/New_York:20260709T170000
DTSTAMP:20260424T143101
CREATED:20250206T061837Z
LAST-MODIFIED:20250730T155132Z
UID:10005519-1783616400-1783616400@centers4ms.org
SUMMARY:Watercolor Painting with Monique
DESCRIPTION:Zoom Class
URL:https://centers4ms.org/event/watercolor-painting-with-monique-38/2026-07-09/
LOCATION:Zoom
CATEGORIES:Art Class,Zoom Only
ATTACH;FMTTYPE=image/jpeg:https://centers4ms.org/wp-content/uploads/2019/09/paint-square.jpg
ORGANIZER;CN="Centers for Multiple Sclerosis":MAILTO:Tim@centers4ms.org
END:VEVENT
BEGIN:VEVENT
DTSTART;TZID=America/New_York:20260716T170000
DTEND;TZID=America/New_York:20260716T170000
DTSTAMP:20260424T143101
CREATED:20250206T061837Z
LAST-MODIFIED:20250730T155132Z
UID:10005520-1784221200-1784221200@centers4ms.org
SUMMARY:Watercolor Painting with Monique
DESCRIPTION:Zoom Class
URL:https://centers4ms.org/event/watercolor-painting-with-monique-38/2026-07-16/
LOCATION:Zoom
CATEGORIES:Art Class,Zoom Only
ATTACH;FMTTYPE=image/jpeg:https://centers4ms.org/wp-content/uploads/2019/09/paint-square.jpg
ORGANIZER;CN="Centers for Multiple Sclerosis":MAILTO:Tim@centers4ms.org
END:VEVENT
BEGIN:VEVENT
DTSTART;TZID=America/New_York:20260723T170000
DTEND;TZID=America/New_York:20260723T170000
DTSTAMP:20260424T143101
CREATED:20250206T061837Z
LAST-MODIFIED:20250730T155132Z
UID:10005521-1784826000-1784826000@centers4ms.org
SUMMARY:Watercolor Painting with Monique
DESCRIPTION:Zoom Class
URL:https://centers4ms.org/event/watercolor-painting-with-monique-38/2026-07-23/
LOCATION:Zoom
CATEGORIES:Art Class,Zoom Only
ATTACH;FMTTYPE=image/jpeg:https://centers4ms.org/wp-content/uploads/2019/09/paint-square.jpg
ORGANIZER;CN="Centers for Multiple Sclerosis":MAILTO:Tim@centers4ms.org
END:VEVENT
BEGIN:VEVENT
DTSTART;TZID=America/New_York:20260730T170000
DTEND;TZID=America/New_York:20260730T170000
DTSTAMP:20260424T143101
CREATED:20250206T061837Z
LAST-MODIFIED:20250730T155132Z
UID:10005522-1785430800-1785430800@centers4ms.org
SUMMARY:Watercolor Painting with Monique
DESCRIPTION:Zoom Class
URL:https://centers4ms.org/event/watercolor-painting-with-monique-38/2026-07-30/
LOCATION:Zoom
CATEGORIES:Art Class,Zoom Only
ATTACH;FMTTYPE=image/jpeg:https://centers4ms.org/wp-content/uploads/2019/09/paint-square.jpg
ORGANIZER;CN="Centers for Multiple Sclerosis":MAILTO:Tim@centers4ms.org
END:VEVENT
BEGIN:VEVENT
DTSTART;TZID=America/New_York:20260806T170000
DTEND;TZID=America/New_York:20260806T170000
DTSTAMP:20260424T143101
CREATED:20250206T061837Z
LAST-MODIFIED:20250730T155132Z
UID:10005523-1786035600-1786035600@centers4ms.org
SUMMARY:Watercolor Painting with Monique
DESCRIPTION:Zoom Class
URL:https://centers4ms.org/event/watercolor-painting-with-monique-38/2026-08-06/
LOCATION:Zoom
CATEGORIES:Art Class,Zoom Only
ATTACH;FMTTYPE=image/jpeg:https://centers4ms.org/wp-content/uploads/2019/09/paint-square.jpg
ORGANIZER;CN="Centers for Multiple Sclerosis":MAILTO:Tim@centers4ms.org
END:VEVENT
BEGIN:VEVENT
DTSTART;TZID=America/New_York:20260813T170000
DTEND;TZID=America/New_York:20260813T170000
DTSTAMP:20260424T143101
CREATED:20250206T061837Z
LAST-MODIFIED:20250730T155132Z
UID:10005524-1786640400-1786640400@centers4ms.org
SUMMARY:Watercolor Painting with Monique
DESCRIPTION:Zoom Class
URL:https://centers4ms.org/event/watercolor-painting-with-monique-38/2026-08-13/
LOCATION:Zoom
CATEGORIES:Art Class,Zoom Only
ATTACH;FMTTYPE=image/jpeg:https://centers4ms.org/wp-content/uploads/2019/09/paint-square.jpg
ORGANIZER;CN="Centers for Multiple Sclerosis":MAILTO:Tim@centers4ms.org
END:VEVENT
BEGIN:VEVENT
DTSTART;TZID=America/New_York:20260820T170000
DTEND;TZID=America/New_York:20260820T170000
DTSTAMP:20260424T143101
CREATED:20250206T061837Z
LAST-MODIFIED:20250730T155132Z
UID:10005525-1787245200-1787245200@centers4ms.org
SUMMARY:Watercolor Painting with Monique
DESCRIPTION:Zoom Class
URL:https://centers4ms.org/event/watercolor-painting-with-monique-38/2026-08-20/
LOCATION:Zoom
CATEGORIES:Art Class,Zoom Only
ATTACH;FMTTYPE=image/jpeg:https://centers4ms.org/wp-content/uploads/2019/09/paint-square.jpg
ORGANIZER;CN="Centers for Multiple Sclerosis":MAILTO:Tim@centers4ms.org
END:VEVENT
BEGIN:VEVENT
DTSTART;TZID=America/New_York:20260827T170000
DTEND;TZID=America/New_York:20260827T170000
DTSTAMP:20260424T143101
CREATED:20250206T061837Z
LAST-MODIFIED:20250730T155132Z
UID:10005526-1787850000-1787850000@centers4ms.org
SUMMARY:Watercolor Painting with Monique
DESCRIPTION:Zoom Class
URL:https://centers4ms.org/event/watercolor-painting-with-monique-38/2026-08-27/
LOCATION:Zoom
CATEGORIES:Art Class,Zoom Only
ATTACH;FMTTYPE=image/jpeg:https://centers4ms.org/wp-content/uploads/2019/09/paint-square.jpg
ORGANIZER;CN="Centers for Multiple Sclerosis":MAILTO:Tim@centers4ms.org
END:VEVENT
BEGIN:VEVENT
DTSTART;TZID=America/New_York:20260903T170000
DTEND;TZID=America/New_York:20260903T170000
DTSTAMP:20260424T143101
CREATED:20250206T061837Z
LAST-MODIFIED:20250730T155132Z
UID:10005527-1788454800-1788454800@centers4ms.org
SUMMARY:Watercolor Painting with Monique
DESCRIPTION:Zoom Class
URL:https://centers4ms.org/event/watercolor-painting-with-monique-38/2026-09-03/
LOCATION:Zoom
CATEGORIES:Art Class,Zoom Only
ATTACH;FMTTYPE=image/jpeg:https://centers4ms.org/wp-content/uploads/2019/09/paint-square.jpg
ORGANIZER;CN="Centers for Multiple Sclerosis":MAILTO:Tim@centers4ms.org
END:VEVENT
BEGIN:VEVENT
DTSTART;TZID=America/New_York:20260910T170000
DTEND;TZID=America/New_York:20260910T170000
DTSTAMP:20260424T143101
CREATED:20250206T061837Z
LAST-MODIFIED:20250730T155132Z
UID:10005528-1789059600-1789059600@centers4ms.org
SUMMARY:Watercolor Painting with Monique
DESCRIPTION:Zoom Class
URL:https://centers4ms.org/event/watercolor-painting-with-monique-38/2026-09-10/
LOCATION:Zoom
CATEGORIES:Art Class,Zoom Only
ATTACH;FMTTYPE=image/jpeg:https://centers4ms.org/wp-content/uploads/2019/09/paint-square.jpg
ORGANIZER;CN="Centers for Multiple Sclerosis":MAILTO:Tim@centers4ms.org
END:VEVENT
BEGIN:VEVENT
DTSTART;TZID=America/New_York:20260917T170000
DTEND;TZID=America/New_York:20260917T170000
DTSTAMP:20260424T143101
CREATED:20250206T061837Z
LAST-MODIFIED:20250730T155132Z
UID:10005529-1789664400-1789664400@centers4ms.org
SUMMARY:Watercolor Painting with Monique
DESCRIPTION:Zoom Class
URL:https://centers4ms.org/event/watercolor-painting-with-monique-38/2026-09-17/
LOCATION:Zoom
CATEGORIES:Art Class,Zoom Only
ATTACH;FMTTYPE=image/jpeg:https://centers4ms.org/wp-content/uploads/2019/09/paint-square.jpg
ORGANIZER;CN="Centers for Multiple Sclerosis":MAILTO:Tim@centers4ms.org
END:VEVENT
BEGIN:VEVENT
DTSTART;TZID=America/New_York:20260924T170000
DTEND;TZID=America/New_York:20260924T170000
DTSTAMP:20260424T143101
CREATED:20250206T061837Z
LAST-MODIFIED:20250730T155132Z
UID:10005530-1790269200-1790269200@centers4ms.org
SUMMARY:Watercolor Painting with Monique
DESCRIPTION:Zoom Class
URL:https://centers4ms.org/event/watercolor-painting-with-monique-38/2026-09-24/
LOCATION:Zoom
CATEGORIES:Art Class,Zoom Only
ATTACH;FMTTYPE=image/jpeg:https://centers4ms.org/wp-content/uploads/2019/09/paint-square.jpg
ORGANIZER;CN="Centers for Multiple Sclerosis":MAILTO:Tim@centers4ms.org
END:VEVENT
BEGIN:VEVENT
DTSTART;TZID=America/New_York:20261001T170000
DTEND;TZID=America/New_York:20261001T170000
DTSTAMP:20260424T143101
CREATED:20250206T061837Z
LAST-MODIFIED:20250730T155132Z
UID:10005531-1790874000-1790874000@centers4ms.org
SUMMARY:Watercolor Painting with Monique
DESCRIPTION:Zoom Class
URL:https://centers4ms.org/event/watercolor-painting-with-monique-38/2026-10-01/
LOCATION:Zoom
CATEGORIES:Art Class,Zoom Only
ATTACH;FMTTYPE=image/jpeg:https://centers4ms.org/wp-content/uploads/2019/09/paint-square.jpg
ORGANIZER;CN="Centers for Multiple Sclerosis":MAILTO:Tim@centers4ms.org
END:VEVENT
BEGIN:VEVENT
DTSTART;TZID=America/New_York:20261008T170000
DTEND;TZID=America/New_York:20261008T170000
DTSTAMP:20260424T143101
CREATED:20250206T061837Z
LAST-MODIFIED:20250730T155132Z
UID:10005532-1791478800-1791478800@centers4ms.org
SUMMARY:Watercolor Painting with Monique
DESCRIPTION:Zoom Class
URL:https://centers4ms.org/event/watercolor-painting-with-monique-38/2026-10-08/
LOCATION:Zoom
CATEGORIES:Art Class,Zoom Only
ATTACH;FMTTYPE=image/jpeg:https://centers4ms.org/wp-content/uploads/2019/09/paint-square.jpg
ORGANIZER;CN="Centers for Multiple Sclerosis":MAILTO:Tim@centers4ms.org
END:VEVENT
BEGIN:VEVENT
DTSTART;TZID=America/New_York:20261015T170000
DTEND;TZID=America/New_York:20261015T170000
DTSTAMP:20260424T143101
CREATED:20250206T061837Z
LAST-MODIFIED:20250730T155132Z
UID:10005533-1792083600-1792083600@centers4ms.org
SUMMARY:Watercolor Painting with Monique
DESCRIPTION:Zoom Class
URL:https://centers4ms.org/event/watercolor-painting-with-monique-38/2026-10-15/
LOCATION:Zoom
CATEGORIES:Art Class,Zoom Only
ATTACH;FMTTYPE=image/jpeg:https://centers4ms.org/wp-content/uploads/2019/09/paint-square.jpg
ORGANIZER;CN="Centers for Multiple Sclerosis":MAILTO:Tim@centers4ms.org
END:VEVENT
BEGIN:VEVENT
DTSTART;TZID=America/New_York:20261022T170000
DTEND;TZID=America/New_York:20261022T170000
DTSTAMP:20260424T143101
CREATED:20250206T061837Z
LAST-MODIFIED:20250730T155132Z
UID:10005534-1792688400-1792688400@centers4ms.org
SUMMARY:Watercolor Painting with Monique
DESCRIPTION:Zoom Class
URL:https://centers4ms.org/event/watercolor-painting-with-monique-38/2026-10-22/
LOCATION:Zoom
CATEGORIES:Art Class,Zoom Only
ATTACH;FMTTYPE=image/jpeg:https://centers4ms.org/wp-content/uploads/2019/09/paint-square.jpg
ORGANIZER;CN="Centers for Multiple Sclerosis":MAILTO:Tim@centers4ms.org
END:VEVENT
BEGIN:VEVENT
DTSTART;TZID=America/New_York:20261029T170000
DTEND;TZID=America/New_York:20261029T170000
DTSTAMP:20260424T143101
CREATED:20250206T061837Z
LAST-MODIFIED:20250730T155132Z
UID:10005535-1793293200-1793293200@centers4ms.org
SUMMARY:Watercolor Painting with Monique
DESCRIPTION:Zoom Class
URL:https://centers4ms.org/event/watercolor-painting-with-monique-38/2026-10-29/
LOCATION:Zoom
CATEGORIES:Art Class,Zoom Only
ATTACH;FMTTYPE=image/jpeg:https://centers4ms.org/wp-content/uploads/2019/09/paint-square.jpg
ORGANIZER;CN="Centers for Multiple Sclerosis":MAILTO:Tim@centers4ms.org
END:VEVENT
BEGIN:VEVENT
DTSTART;TZID=America/New_York:20261105T170000
DTEND;TZID=America/New_York:20261105T170000
DTSTAMP:20260424T143101
CREATED:20250206T061837Z
LAST-MODIFIED:20250730T155132Z
UID:10005536-1793898000-1793898000@centers4ms.org
SUMMARY:Watercolor Painting with Monique
DESCRIPTION:Zoom Class
URL:https://centers4ms.org/event/watercolor-painting-with-monique-38/2026-11-05/
LOCATION:Zoom
CATEGORIES:Art Class,Zoom Only
ATTACH;FMTTYPE=image/jpeg:https://centers4ms.org/wp-content/uploads/2019/09/paint-square.jpg
ORGANIZER;CN="Centers for Multiple Sclerosis":MAILTO:Tim@centers4ms.org
END:VEVENT
BEGIN:VEVENT
DTSTART;TZID=America/New_York:20261112T170000
DTEND;TZID=America/New_York:20261112T170000
DTSTAMP:20260424T143101
CREATED:20250206T061837Z
LAST-MODIFIED:20250730T155132Z
UID:10005537-1794502800-1794502800@centers4ms.org
SUMMARY:Watercolor Painting with Monique
DESCRIPTION:Zoom Class
URL:https://centers4ms.org/event/watercolor-painting-with-monique-38/2026-11-12/
LOCATION:Zoom
CATEGORIES:Art Class,Zoom Only
ATTACH;FMTTYPE=image/jpeg:https://centers4ms.org/wp-content/uploads/2019/09/paint-square.jpg
ORGANIZER;CN="Centers for Multiple Sclerosis":MAILTO:Tim@centers4ms.org
END:VEVENT
BEGIN:VEVENT
DTSTART;TZID=America/New_York:20261119T170000
DTEND;TZID=America/New_York:20261119T170000
DTSTAMP:20260424T143101
CREATED:20250206T061837Z
LAST-MODIFIED:20250730T155132Z
UID:10005538-1795107600-1795107600@centers4ms.org
SUMMARY:Watercolor Painting with Monique
DESCRIPTION:Zoom Class
URL:https://centers4ms.org/event/watercolor-painting-with-monique-38/2026-11-19/
LOCATION:Zoom
CATEGORIES:Art Class,Zoom Only
ATTACH;FMTTYPE=image/jpeg:https://centers4ms.org/wp-content/uploads/2019/09/paint-square.jpg
ORGANIZER;CN="Centers for Multiple Sclerosis":MAILTO:Tim@centers4ms.org
END:VEVENT
END:VCALENDAR